BEGIN:VCALENDAR
VERSION:2.0
PRODID:-//wp-events-plugin.com//7.2.3.1//EN
TZID:Europe/Berlin
X-WR-TIMEZONE:Europe/Berlin
BEGIN:VEVENT
UID:7001@rauszeit-termine.org
DTSTART:20201208T100000Z
DTEND:20201208T120000Z
DTSTAMP:20201208T120515Z
URL:https://rauszeit-termine.org/events/zugang-zum-schwangerschaftsabbruch
 -im-internationalen-kontext/
SUMMARY:Zugang zum Schwangerschaftsabbruch im internationalen Kontext
DESCRIPTION:\n\nOnline Vortrag - Zugang über: https://zoom.us/j/9642265878
 3\n\n\nIn den meisten Ländern ist der Schwangerschaftsabbruch immer noch 
 illegal oder aufgrund seiner Stigmatisierung nicht zugänglich. Weltweit s
 terben etwa 48.000 Frauen aufgrund dieser Illegalisierung\, etwa 5 Mio. tr
 agen schwerwiegende Gesundheitsschäden davon. Weltweit versuchen Konserva
 tive mit der Fokusierung auf den Embryo die Lebensrealität und die Bedür
 fnisse von Frauen unsichtbar zu machen. Film und Vortrag geben einen Über
 blick über die Gesetzte und Bewegungen\, die Frauen davon abhalten ein se
 lbstbestimmtes Leben führen zu können\, aber auch über die Frauensolida
 rität und Selbstorganisation wie Ciocia Basia oder Women on Waves\, die e
 s Frauen weltweit ermöglicht auch illegalisiert Zugang dazu zu bekommen.\
 nSarah Diehl (*1978) lebt als Autorin und Aktivistin in Berlin. Sie engagi
 ert sich mit der Organisation Ciocia Basia für den Zugang zum Schwangersc
 haftsabbruch in Ländern in denen er illegal ist. Sie arbeitet seit 12 Jah
 ren zu reproduktiven Rechten und hat hierzu den preisgekrönten Dokumentar
 film Abortion Democracy - Poland/South Africa gedreht und mehrere Antholog
 ien herausgegeben. Ihr Debütroman Eskimo Limon 9 über den Culture Clash 
 zwischen Israelis und Deutschen erschien 2012 im Atrium Verlag. Ihr letzte
 s Sachbuch Die Uhr\, die nicht tickt über das schlechte Image der kinderl
 osen Frau als Druckmittel zur unbezahlten Care-Arbeit erschien 2014 im Arc
 he Verlag. Ihr nächstes Sachbuch „Warum Einsamkeit gut für die Gemeins
 chaft ist“ erscheint 2022 im Arche Verlag.
CATEGORIES:Vortrag
END:VEVENT
END:VCALENDAR