BEGIN:VCALENDAR
VERSION:2.0
PRODID:-//wp-events-plugin.com//7.2.3.1//EN
TZID:Europe/Berlin
X-WR-TIMEZONE:Europe/Berlin
BEGIN:VEVENT
UID:156506@rauszeit-termine.org
DTSTART;TZID=Europe/Berlin:20260424T163000
DTEND;TZID=Europe/Berlin:20260424T180000
DTSTAMP:20260418T210911Z
URL:https://rauszeit-termine.org/events/workshop-mit-westprotest-nach-der-
 klimaschutz-demo/
SUMMARY:Workshop mit WESTprotest nach der Klimaschutz-Demo
DESCRIPTION:Demonstrieren und dann? Lass uns gemeinsam aktiv werden!\nDiese
 s Jahr fällt die Entscheidung\, ob der Westschnellweg im Bestand saniert 
 wird oder schon wieder viele Bäume für noch mehr Autoverkehr fallen soll
 en. Das lassen wir nicht zweimal mit uns machen!\nBeim Workshop soll es da
 rum gehen\, wie eine Kampagne gegen die Rodung aussehen kann und wie du mi
 tmachen kannst! Der Protest ist ein wichtiger Teil der lokalen Klimabewegu
 ng in Hannover. Beim Thema Verkehrswende geht es auch immer um einen Ausst
 ieg aus den fossilen Energien. Exit Oil\, enter Future! Exist Gas\, enter 
 Future!\nAm 24.04. am Schneiderberg 5016:30 Uhr\, direkt im Anschluss an d
 ie Demo\nDavor: Laufdemo mit Start um 15 Uhr am Steintor bis zum Schneider
 berg
ATTACH;FMTTYPE=image/jpeg:https://rauszeit-termine.org/wp-content/uploads/
 2026/04/Workshop_WESTprotest_20260424.jpeg
CATEGORIES:Austausch,Vernetzung,Workshop
LOCATION:Schneiderberg 50\, Schneiderberg 50\, Hannover\, Deutschland
X-APPLE-STRUCTURED-LOCATION;VALUE=URI;X-ADDRESS=Schneiderberg 50\, Hannover
 \, Deutschland;X-APPLE-RADIUS=100;X-TITLE=Schneiderberg 50:geo:0,0
END:VEVENT
BEGIN:VTIMEZONE
TZID:Europe/Berlin
X-LIC-LOCATION:Europe/Berlin
BEGIN:DAYLIGHT
DTSTART:20260329T030000
TZOFFSETFROM:+0100
TZOFFSETTO:+0200
TZNAME:CEST
END:DAYLIGHT
END:VTIMEZONE
END:VCALENDAR