BEGIN:VCALENDAR
VERSION:2.0
PRODID:-//wp-events-plugin.com//7.2.3.1//EN
TZID:Europe/Berlin
X-WR-TIMEZONE:Europe/Berlin
BEGIN:VEVENT
UID:7135@rauszeit-termine.org
DTSTART;TZID=Europe/Berlin:20210225T200000
DTEND;TZID=Europe/Berlin:20210225T213000
DTSTAMP:20210223T175231Z
URL:https://rauszeit-termine.org/events/wohnungskonzerne-enteignen-heute-i
 n-berlin-morgen-hannover/
SUMMARY:Wohnungskonzerne enteignen: Heute in Berlin - morgen Hannover!?
DESCRIPTION:\nIm Jahr 2019 ging die Initiative „Deutsche Wohnen &amp\; Co
  Enteignen“ an den Start und erregte bundesweit Aufsehen. Sie fordert na
 ch Jahren der Spekulation und explodierender Mieten in Berlin ein Ende des
  Wahnsinns. Durch einen Volksentscheid sollen mit 175.000 gültigen Unters
 chriften etwa 240.000 Wohnungen von Immobilienkonzernen vergesellschaftet 
 werden. Die Möglichkeit dafür schafft der Artikel 15 des Grundgesetzes.\
 nAls Teil der Recht auf Stadt Bewegung hier in Hannover hat der Erfolg der
  Initiative uns von Anfang an inspiriert und angetrieben. Im Februar geht 
 der Kampf in die zweite Runde: Erneut braucht die Initiative jede Menge Un
 terschriften. Ein Erfolg der Initiative in Berlin wäre strategische Richt
 schnur bundesweit und würde dem Gespenst der Enteignung Rückenwind versc
 haffen!\nZusammen mit einem Aktiven aus Berlin wollen wir in dieser Roten 
 Zone mehr über den Stand der Dinge und die aktuelle Strategie der Kampagn
 e erfahren und diskutieren\, wie wir auch aus Hannover in Zukunft aktiv un
 terstützen können. Und was für Ansatzpunkte und Möglichkeiten sehen wi
 r für die Enteignung von Immobilienkonzernen in Niedersachsen? Schaltet d
 azu am 25.02. um 20 Uhr unseren Livestream auf http://youtu.be/kF-u5-5tims
  ein.\n
ATTACH;FMTTYPE=image/jpeg:https://rauszeit-termine.org/wp-content/uploads/
 2021/02/dwe.jpg
CATEGORIES:Diskussion
LOCATION:http://youtu.be/kF-u5-5tims
END:VEVENT
BEGIN:VTIMEZONE
TZID:Europe/Berlin
X-LIC-LOCATION:Europe/Berlin
BEGIN:STANDARD
DTSTART:20201025T020000
TZOFFSETFROM:+0200
TZOFFSETTO:+0100
TZNAME:CET
END:STANDARD
END:VTIMEZONE
END:VCALENDAR