BEGIN:VCALENDAR
VERSION:2.0
PRODID:-//wp-events-plugin.com//7.2.3.1//EN
TZID:Europe/Berlin
X-WR-TIMEZONE:Europe/Berlin
BEGIN:VEVENT
UID:6742@rauszeit-termine.org
DTSTART:20200328T100000Z
DTEND:20200328T140000Z
DTSTAMP:20200329T083202Z
URL:https://rauszeit-termine.org/events/wohnen-fuer-menschen-statt-fuer-pr
 ofite-fahrraddemo-zum-housing-action-day/
SUMMARY:Wohnen für Menschen statt für Profite - digitale Demo zum Housing
  Action Day
DESCRIPTION:! Aufgrund der aktuellen Corona-Lage findet die zu diesem Aktio
 nstag geplante Fahrrad-Demo nicht statt !\n\nAls #digitaldemo gibt es aber
  ein Video\, welches die Stationen der Demo darstellt:\n\nhttps://www.yout
 ube.com/watch?v=IWUC3rjcykw\n\nZu den in dem Video vorgestellten Stationen
  gibt es weitere Informationen/Redebeiträge:\n\nHintergrund Hausbesetzung
  am Klagesmarkt: https://de.indymedia.org/node/33286\n\nHintergrund zum 
 „Goldenen Miethai“ u.a. Heisenstraße und Charlottes Garten: https://t
 witter.com/167Solidarisch\n\n\nAlternativen auf dem Bumke-Gelände: https:
 //bumkeselbermachenhome.files.wordpress.com/…/alterna…\n\n\nHintergrun
 d Hausverkauf Fröbelstraße: http://kiezkollektiv.blogsport.de/\n\n\nText
 e zu „Solidarität für alle“: https://twitter.com/IL_Hannover/status/
 1241810256809918464…\n\nTexte zu Steintor und Ihme-Zentrum: https://dkph
 annover.wordpress.com/2020/03/28/wohnen-fuer-menschen-nicht-fuer-profite/#
 more-1094\n\nEssay zu Kulturhauptstadt &amp\; Obdachlosigkeit/Verdrängung
 : Exkurs E „Schöne neue Welt“ bei https://bumkeselbermachenhome.files
 .wordpress.com/…/alterna…\n\nErläuterung zu „Kein Monopoly mit der 
 Nordstadt“: Die Initiative „Bumke selber machen“ setzt in diesen Tag
 en ebenfalls auf kreative Protestformen\, um gegen steigende Mieten in der
  Nordstadt\, wie sie durch die aktuellen Entwürfe für die Bebauung des B
 umke-Geländes zu befürchten sind\, zu protestieren: https://bumkeselberm
 achen.home.blog/…/aktion-zum-housing-a…/ &amp\; https://www.facebook.c
 om/bumkeselbermachen/\n\nErläuterung #NoOneLeftBehind: https://seebruecke
 .org/\n\nInformationen zur Nachbarschaftshilfe: https://solistatthamster.o
 rg/
CATEGORIES:Demo,Kundgebung
LOCATION:Klagesmarkt\, Klagesmarkt\, Hannover\, Deutschland
X-APPLE-STRUCTURED-LOCATION;VALUE=URI;X-ADDRESS=Klagesmarkt\, Hannover\, De
 utschland;X-APPLE-RADIUS=100;X-TITLE=Klagesmarkt:geo:0,0
END:VEVENT
END:VCALENDAR