BEGIN:VCALENDAR
VERSION:2.0
PRODID:-//wp-events-plugin.com//7.2.3.1//EN
TZID:Europe/Berlin
X-WR-TIMEZONE:Europe/Berlin
BEGIN:VEVENT
UID:150432@rauszeit-termine.org
DTSTART;TZID=Europe/Berlin:20251021T180000
DTEND;TZID=Europe/Berlin:20251021T180000
DTSTAMP:20251015T192848Z
URL:https://rauszeit-termine.org/events/wie-koennen-wir-gewinnen/
SUMMARY:Wie können wir gewinnen?
DESCRIPTION:Wo immer man hinschaut\, sind wir Angriffen ausgesetzt: Merz wi
 ll den 8 Stunden Tag abschaffen\, die SPD das Bürgergeld kürzen und kaum
  ein CSD ist nicht von Faschos bedroht. Umso wichtiger ist\, sich vor Auge
 n zu führen\, dass es auch immer wieder Kämpfe gibt\, die von links gewo
 nnen werden. Davon müssen wir lernen und darauf aufbauen. Yannick von der
  MHH spricht über den erfolgreichen Kampf für einen Tarifvertrag Entlast
 ung an der MHH\, die Demokratisierung von Gewerkschaften und kommende Ause
 inandersetzungen.
CATEGORIES:Diskussion,Vortrag,Welcome To The Trouble
LOCATION:Elchkeller\, Schneiderberg 50\, Hannover\, Deutschland
X-APPLE-STRUCTURED-LOCATION;VALUE=URI;X-ADDRESS=Schneiderberg 50\, Hannover
 \, Deutschland;X-APPLE-RADIUS=100;X-TITLE=Elchkeller:geo:0,0
END:VEVENT
BEGIN:VTIMEZONE
TZID:Europe/Berlin
X-LIC-LOCATION:Europe/Berlin
BEGIN:DAYLIGHT
DTSTART:20250330T030000
TZOFFSETFROM:+0100
TZOFFSETTO:+0200
TZNAME:CEST
END:DAYLIGHT
END:VTIMEZONE
END:VCALENDAR