BEGIN:VCALENDAR
VERSION:2.0
PRODID:-//wp-events-plugin.com//7.2.3.1//EN
TZID:Europe/Berlin
X-WR-TIMEZONE:Europe/Berlin
BEGIN:VEVENT
UID:14181@rauszeit-termine.org
DTSTART;TZID=Europe/Berlin:20250121T180000
DTEND;TZID=Europe/Berlin:20250121T180000
DTSTAMP:20250115T171428Z
URL:https://rauszeit-termine.org/events/widersetzen-wie-gehts-weiter/
SUMMARY:Widersetzen: Wie geht’s weiter?
DESCRIPTION:Was für ein krasser Tag\, was für ein krasser Erfolg!\n\nNoch
  nie wurde ein Parteitag so lange aufgehalten wie der gestern!  Über 2 St
 unden waren so wenige Delegierte da\, dass der Parteitag gar nicht beginne
 n konnte. Das waren wir! Dieser Erfolg gehört uns allen! \n\nDoch unser A
 ntifaschismus ist hier noch lange nicht zu Ende. Wir haben uns nicht organ
 isiert\, um einmalig in Riesa ein Zeichen zu setzen\, sondern weil wir die
  Gesellschaft verändern wollen.\n\n++ Komm zum offenen "wie geht's weiter
 ?"-Treffen! ++\n\nDie nächsten Wochen werden entscheidend sein mit der an
 stehenden Bundestagswahl\, bei der die AfD Stand heute zweitstärkste Kraf
 t wird\, und die Linke droht\, aus dem Bundestag zu fliegen. Mit einer Tar
 ifrunde im öffentlichen Dienst\, der aktuell kaputt gespart wird. 2\,5 Mi
 llionen Beschäftigte\, die unser Land am Laufen halten\, werden in den n
 ächsten Wochen entweder die Erfahrung machen\, dass sie durch Zusammenhal
 t und Einsatz ihre Lebensrealität verbessern können\, oder\, dass die Re
 gierung und die Gesellschaft sie schon wieder im Stich lassen. \nWir müss
 en weiter machen\, denn es gibt noch so viel zu gewinnen. Wir müssen denj
 enigen zuhören\, die sich von der Politik verlassen fühlen\, und diejeni
 gen unterstützen\, die unser Land tagtäglich am Laufen halten! \n\nDas T
 reffen ist offen für alle! Alle sind willkommen\, alle werden gebraucht!
ATTACH;FMTTYPE=image/jpeg:https://rauszeit-termine.org/wp-content/uploads/
 2025/01/widersetzen-weiter.jpg
CATEGORIES:Treffen
LOCATION:UJZ Korn\, Kornstraße 28-30\, Hannover\, Niedersachsen\, 30167\, 
 Hannover\, Deutschland
X-APPLE-STRUCTURED-LOCATION;VALUE=URI;X-ADDRESS=Kornstraße 28-30\, Hannove
 r\, Niedersachsen\, 30167\, Hannover\, Deutschland;X-APPLE-RADIUS=100;X-TI
 TLE=UJZ Korn:geo:0,0
END:VEVENT
BEGIN:VTIMEZONE
TZID:Europe/Berlin
X-LIC-LOCATION:Europe/Berlin
BEGIN:STANDARD
DTSTART:20241027T020000
TZOFFSETFROM:+0200
TZOFFSETTO:+0100
TZNAME:CET
END:STANDARD
END:VTIMEZONE
END:VCALENDAR