BEGIN:VCALENDAR
VERSION:2.0
PRODID:-//wp-events-plugin.com//7.2.3.1//EN
TZID:Europe/Berlin
X-WR-TIMEZONE:Europe/Berlin
BEGIN:VEVENT
UID:156514@rauszeit-termine.org
DTSTART;TZID=Europe/Berlin:20260424T120000
DTEND;TZID=Europe/Berlin:20260426T200000
DTSTAMP:20260423T092022Z
URL:https://rauszeit-termine.org/events/werkschau-2026/
SUMMARY:Werkschau 2026
DESCRIPTION:Drei Tage\, unzählige Ideen\, grenzenlose Kreativität: Die De
 sign- und Medienstudiengänge der Hochschule Hannover\, Fakultät III\, la
 den vom 24. bis 26. April zur Werkschau 2026 ins Design Center auf der Exp
 o Plaza ein.\nAuf rund 5.000 Quadratmetern zeigt die Ausstellung Arbeiten 
 aus allen Studiengängen und bietet Einblicke in kreative Prozesse\, Studi
 eninhalte und berufliche Perspektiven. Ergänzt wird die Werkschau durch e
 in vielfältiges Rahmenprogramm aus Workshops\, Performances\, Installatio
 nen\, Filmvorführungen\, Augmented-Reality-Projekten sowie Vorträgen von
  Alumni und Designer*innen. Ein Designkiosk\, Abschlusspräsentationen und
  ein Porträtfotoshooting runden das Angebot ab.\nFreitag\, 24. AprilAm Vo
 rmittag richtet sich eine Sneak Preview mit Führungen\, Workshops und Inf
 os zum Studium gezielt an Schüler*innen.\nDie offizielle Eröffnung erfol
 gt um 18:45 Uhr im Atrium mit Grußworten aus Fakultät und Präsidium. Um
  19:00 Uhr folgt eine Modenschau mit experimentellen Kollektionen zwischen
  Work-\, Sports- und Military-Ästhetik sowie „Time Travel“-Looks.\nAb
  20:00 Uhr geht die Werkschau in eine Eröffnungsparty über: Mit VÄXT\, 
 TÜTE\, DJ Schnickschnack und juicyb2b entsteht ein genreübergreifendes C
 lubprogramm von House und UK Garage bis Techno.\nSamstag\, 25. AprilDer Sa
 mstag verbindet Ausstellung und Programm im gesamten Design Center: Ein Fl
 ohmarkt auf der Expo Plaza\, ein offenes Picknick mit Ping-Pong sowie zahl
 reiche Workshops und Vorträge laden zum Mitmachen und Austausch ein.\nIn 
 Talks geben u. a. Robin Rau (u. a. Hugo Boss)\, das Entrepreneurship Cente
 r NEXSTER\, Justine Loddenkemper und Daniel Kroh Einblicke in Designpraxis
 \, Karrierewege\, Nachhaltigkeit und Gründung. Das Projekt „AUS DEM KOF
 FER +“ zeigt Modelle künstlerischer Selbstorganisation\, während ein m
 obiler Stammtisch des Cameo Kollektivs Raum für Gespräche über gesellsc
 haftliche Themen schafft.\nKünstlerische Beiträge umfassen eine Maskenpe
 rformance sowie die Ausstellung „Decomposed“ mit installativen\, perfo
 rmativen und multimedialen Arbeiten zu Transformation und Vergänglichkeit
 .\nSonntag\, 26. AprilAm Sonntag stehen Perspektiven nach dem Studium im F
 okus: Talks von Chris\, The Red und Nina Düwel (NOIE Studios) beleuchten 
 Selbstständigkeit\, künstlerische Praxis und Bürogründung.\nDen Abschl
 uss bildet um 16:00 Uhr das Werkschau-Kino im Hörsaal mit einem kuratiert
 en Programm aktueller Filmprojekte aus Mediendesign\, Visual Journalism un
 d visueller Kommunikation – begleitet von Gesprächen mit den Filmschaff
 enden.\nDie Ausstellung ist am Samstag und Sonntag jeweils von 12 bis 19 U
 hr geöffnet.\nDas vollständige Programm wird fortlaufend aktualisiert un
 ter:hs-h.de/f3-werkschauInstagram: @f3_hsh
ATTACH;FMTTYPE=image/jpeg:https://rauszeit-termine.org/wp-content/uploads/
 2026/04/TK20250516_0101_3508x2338-scaled.jpg
CATEGORIES:Ausstellung,Party,Performance,Vortrag,Workshop
LOCATION:Hochschule Hannover - Design Center\, Expo Plaza 2\, Hannover\, Ni
 edersachsen\, 30539 \, Deutschland
X-APPLE-STRUCTURED-LOCATION;VALUE=URI;X-ADDRESS=Expo Plaza 2\, Hannover\, N
 iedersachsen\, 30539 \, Deutschland;X-APPLE-RADIUS=100;X-TITLE=Hochschule 
 Hannover - Design Center:geo:0,0
END:VEVENT
BEGIN:VTIMEZONE
TZID:Europe/Berlin
X-LIC-LOCATION:Europe/Berlin
BEGIN:DAYLIGHT
DTSTART:20260329T030000
TZOFFSETFROM:+0100
TZOFFSETTO:+0200
TZNAME:CEST
END:DAYLIGHT
END:VTIMEZONE
END:VCALENDAR