BEGIN:VCALENDAR
VERSION:2.0
PRODID:-//wp-events-plugin.com//7.2.3.1//EN
TZID:Europe/Berlin
X-WR-TIMEZONE:Europe/Berlin
BEGIN:VEVENT
UID:147566@rauszeit-termine.org
DTSTART;TZID=Europe/Berlin:20250516T203000
DTEND;TZID=Europe/Berlin:20250516T223000
DTSTAMP:20250515T205846Z
URL:https://rauszeit-termine.org/events/wer-die-nachtigall-stoert-to-kill-
 a-mockingbird/
SUMMARY:Wer die Nachtigall stört / To Kill a Mockingbird
DESCRIPTION:Ein weißer Anwalt übernimmt im Alabama der 1930er Jahre die V
 erteidigung eines Afroamerikaners\; erzählt aus der Sicht seiner Kinder. 
 Literaturverfilmung\, ausgezeichnet mit drei Oscars.\n\n\nPassage à l'act
 e\nMartin Arnold\, Österreich\, 1993\, 12 Min.\, 16mm\n\n33 Sekunden aus
  TO KILL A MOCKiNGBIRD von 1962. Eine Familie am Esstisch\, eine scheinbar
  banale Szene. Vor- und Rücklauf\, Hängenbleiben und Stottern ...\n\nwe
 iterlesen\n\n\n\n\nWer die Nachtigall stört\nTo Kill a Mockingbird\nRober
 t Mulligan\, USA\, 1962\, 129 Min.\, 16mm\, dt.F.Mary Badham\, Gregory Pe
 ck\, Philip Alford\, John Megna\, Alice GhostleyNach dem gleichnamigen Rom
 an von Harper Lee\n\nEine Stadt in den Südstaaten der 1930er Jahre: In di
 e Kindheit der achtjährigen Scout\, ihres Bruders Jem und ihres gemeinsam
 en Freundes Dill drängt sich die Wirklichkeit der Erwachsenen aus Vorurte
 ilen und Rassismus. Atticus Finch\, Vater von Scout und Jem\, verteidigt a
 ls Anwalt den schwarzen Tom Robinson\, der beschuldigt wird\, die Tochter 
 eines weißen vergewaltigt zu haben. Die Kinder verfolgen das Geschähen u
 nd werden schließlich mit hineingezogen.Aus Sicht der Kinder und mit eine
 m weißen Sympathieträger ergreift der Film in der Debatte um die Gleichb
 erechtigung der Schwarzen in den USA Anfang der 1960er Jahre Partei gegen 
 Rassismus und für die Bürgerrechtsbewegung. Eine bewegende Verfilmung de
 s mit dem Pulitzer-Preis ausgezeichneten Romans von Harper Lee "To Kill a 
 Mockingbird" und ein mutiges Zeugnis amerikanischer Filmgeschichte\, das k
 aum an Aktualität verloren hat.Trailer
CATEGORIES:Sonstiges
LOCATION:Kino im Sprengel\, Klaus-Müller-Kilian Weg 1\, Hannover\, 30167\,
  Deutschland
X-APPLE-STRUCTURED-LOCATION;VALUE=URI;X-ADDRESS=Klaus-Müller-Kilian Weg 1\
 , Hannover\, 30167\, Deutschland;X-APPLE-RADIUS=100;X-TITLE=Kino im Spreng
 el:geo:0,0
END:VEVENT
BEGIN:VTIMEZONE
TZID:Europe/Berlin
X-LIC-LOCATION:Europe/Berlin
BEGIN:DAYLIGHT
DTSTART:20250330T030000
TZOFFSETFROM:+0100
TZOFFSETTO:+0200
TZNAME:CEST
END:DAYLIGHT
END:VTIMEZONE
END:VCALENDAR