BEGIN:VCALENDAR
VERSION:2.0
PRODID:-//wp-events-plugin.com//7.2.3.1//EN
TZID:Europe/Berlin
X-WR-TIMEZONE:Europe/Berlin
BEGIN:VEVENT
UID:147240@rauszeit-termine.org
DTSTART;TZID=Europe/Berlin:20250426T200000
DTEND;TZID=Europe/Berlin:20250426T220000
DTSTAMP:20250421T092546Z
URL:https://rauszeit-termine.org/events/wellen-der-solidaritaet/
SUMMARY:Wellen der Solidarität
DESCRIPTION:Lesung mit Luna Ali und Chris Grodotzki \nWellen der Solidarit
 ät – 10 Jahre zivile Seenotrettung und die Syrische Revolution\n»Die G
 eflüchteten\, Verfluchten\, die über die Grenzen hinweg nach Europa gela
 ngt waren\, langten nach den Augen der Welt\, in den Augen der Europäer*i
 nnen\, denn in ihren Augen waren sie die Welt\, sie trugen eine Frage im G
 epäck: Wer nur noch sein Leben zu retten hat\, der hat nichts mehr zu ver
 lieren\, auch das Leben nicht\, Widerstand zwecklos\, wer trägt dann noch
  die Hoffnung?«\nJa\, wer trägt die Hoffnung? Eine Frage\, die dringlich
 er nicht sein könnte. Zwei Autor:innen nähern sich ihr von ganz verschie
 denen Ausgangspunkten\, die dennoch im salzigen Wasser des Mittelmeeres au
 feinandertreffen: Luna Ali’s Debütroman »Da waren Tage« verarbeitet d
 ie Erfahrung der syrischen Diaspora in Zentraleuropa\, angesichts der Revo
 lution 2011 und ihrer langen\, brutalen Verschleppung. Chris Grodotzki's R
 eflexionsband »Kein Land in Sicht« erzählt die Geschichte(n) der zivile
 n Seenotrettung von 2015 bis 2025 aus Sicht ihrer Aktivist:innen.\nZwei kr
 itische aber nicht hoffnungslose Blicke auf und über das Mittelmeer – d
 as nicht nur Burggraben und Massengrab\, sondern auch ein internationaler 
 Raum der Bewegungsfreiheit und Solidarität sein kann.\n***\nCHRIS GRODOTZ
 KI fotografiert\, schreibt und spricht\; früher als Antifa- und Umwelt-Ak
 tivist\, dann als Pressesprecher und Einsatzleiter bei Sea-Watch und aktue
 ll wieder freiberuflich für linke Medien und Organisationen.\nLUNA ALI ar
 beitet als Autorin und Performerin an verschiedenen Theatern. Kommunistisc
 h sozialisiert\, Tochter politisch Verfolgter Syrer:innen\, ehemalige Alar
 m-Phone-Aktivistin und aktuell Mitglied des Sea-Watch Airborne-Teams.
ATTACH;FMTTYPE=image/jpeg:https://rauszeit-termine.org/wp-content/uploads/
 2025/04/Sharepic.jpeg
CATEGORIES:Lesung/Buchvorstellung
LOCATION:Kulturzentrum Pavillon\, Lister Meile 4\, Hannover\, Niedersachsen
 \, 30161\, Deutschland
X-APPLE-STRUCTURED-LOCATION;VALUE=URI;X-ADDRESS=Lister Meile 4\, Hannover\,
  Niedersachsen\, 30161\, Deutschland;X-APPLE-RADIUS=100;X-TITLE=Kulturzent
 rum Pavillon:geo:0,0
END:VEVENT
BEGIN:VTIMEZONE
TZID:Europe/Berlin
X-LIC-LOCATION:Europe/Berlin
BEGIN:DAYLIGHT
DTSTART:20250330T030000
TZOFFSETFROM:+0100
TZOFFSETTO:+0200
TZNAME:CEST
END:DAYLIGHT
END:VTIMEZONE
END:VCALENDAR