BEGIN:VCALENDAR
VERSION:2.0
PRODID:-//wp-events-plugin.com//7.2.3.1//EN
TZID:Europe/Berlin
X-WR-TIMEZONE:Europe/Berlin
BEGIN:VEVENT
UID:156509@rauszeit-termine.org
DTSTART;TZID=Europe/Berlin:20260503T140000
DTEND;TZID=Europe/Berlin:20260503T150000
DTSTAMP:20260421T194346Z
URL:https://rauszeit-termine.org/events/weg-von-whatsapp-hin-zu-sicheren-m
 essengern/
SUMMARY:Weg von WhatsApp - Hin zu sicheren Messengern!
DESCRIPTION:Wir (der Chaos Computer Club Hannover) helfen euch dabei einen 
 sicheren Messenger einzurichten. Dafür wollen wir offene Alternativen zu 
 den geschlossenen Apps wie WhatsApp\, Telegram und Discord usw. aufzeigen.
 \n\nBei geschlossenen Diensten wie WhatsApp können wir als Nutzer*Innen n
 icht nachvollziehen\, was mit unseren Nachrichten wirklich passiert. Niema
 nd von außen kann kontrollieren\, ob die Anbieter ihre Versprechen einhal
 ten. Kann zum Beispiel wirklich nur der/die Empfänger*In die Nachrichten 
 lesen? Außerdem sammeln die Anbieter*Innen zusätzlich sehr viele Metainf
 ormationen. Zum Beispiel mit wem wir wann schreiben. Und nutzen diese Date
 n für ihre eigenen Geschäftsmodelle. Es gibt aber auch sichere Open-Sour
 ce Alternativen. Wir geben euch bei diesem Workshop einen Überblick über
  diese offenen Alternativen\, helfen bei der Einrichtung. Außerdem sammel
 n wir Tipps zur Nutzung und Argumente\, mit denen ihr eure Freunde überze
 ugen könnt!\n\n&nbsp\;\n\nhttps://termine.di.day/events/12333920-2704-491
 a-a68e-8fce1248b3a1
CATEGORIES:Beratung,Sonstiges,Workshop
LOCATION:Chaos Computer Club\, Klaus-Müller-Kilian-Weg 2\, Hanover\, 30167
 \, Deutschland
X-APPLE-STRUCTURED-LOCATION;VALUE=URI;X-ADDRESS=Klaus-Müller-Kilian-Weg 2\
 , Hanover\, 30167\, Deutschland;X-APPLE-RADIUS=100;X-TITLE=Chaos Computer 
 Club:geo:0,0
END:VEVENT
BEGIN:VTIMEZONE
TZID:Europe/Berlin
X-LIC-LOCATION:Europe/Berlin
BEGIN:DAYLIGHT
DTSTART:20260329T030000
TZOFFSETFROM:+0100
TZOFFSETTO:+0200
TZNAME:CEST
END:DAYLIGHT
END:VTIMEZONE
END:VCALENDAR