BEGIN:VCALENDAR
VERSION:2.0
PRODID:-//wp-events-plugin.com//7.2.3.1//EN
TZID:Europe/Berlin
X-WR-TIMEZONE:Europe/Berlin
BEGIN:VEVENT
UID:156513@rauszeit-termine.org
DTSTART;TZID=Europe/Berlin:20260509T170000
DTEND;TZID=Europe/Berlin:20260509T170000
DTSTAMP:20260422T152346Z
URL:https://rauszeit-termine.org/events/was-ist-feministische-gewerkschaft
 sarbeit/
SUMMARY:Was ist feministische Gewerkschaftsarbeit?
DESCRIPTION:Bei der Veranstaltung reisen die Vortragenden durch das große 
 Feld der emanzipatorischen Gewerkschaftsarbeit.\n\nKönnen gewerkschaftlic
 he Mittel im Kampf gegen Sexismus und Rassismus am Arbeitsplatz helfen? M
 üssen Organizingkonzepte angepasst werden damit sie zu unseren Lebensreal
 itäten passen? Was braucht eine Organisation um sowohl klassenkämpferisc
 h als auch feministisch zu sein?\n\nAnhand von ausgewählten FAU-Arbeitsk
 ämpfen wird gezeigt\, warum Feminismus und Gewerkschaft zusammen gehören
 .
ATTACH;FMTTYPE=image/jpeg:https://rauszeit-termine.org/wp-content/uploads/
 2026/04/Fem.jpeg
CATEGORIES:Vortrag
LOCATION:Gewerkschaftslokal der FAU Hannover\, Nieschlagstraße 1b\, Hannov
 er\, Niedersachsen\, 30449\, Deutschland
X-APPLE-STRUCTURED-LOCATION;VALUE=URI;X-ADDRESS=Nieschlagstraße 1b\, Hanno
 ver\, Niedersachsen\, 30449\, Deutschland;X-APPLE-RADIUS=100;X-TITLE=Gewer
 kschaftslokal der FAU Hannover:geo:0,0
END:VEVENT
BEGIN:VTIMEZONE
TZID:Europe/Berlin
X-LIC-LOCATION:Europe/Berlin
BEGIN:DAYLIGHT
DTSTART:20260329T030000
TZOFFSETFROM:+0100
TZOFFSETTO:+0200
TZNAME:CEST
END:DAYLIGHT
END:VTIMEZONE
END:VCALENDAR