BEGIN:VCALENDAR
VERSION:2.0
PRODID:-//wp-events-plugin.com//7.2.3.1//EN
TZID:Europe/Berlin
X-WR-TIMEZONE:Europe/Berlin
BEGIN:VEVENT
UID:6884@rauszeit-termine.org
DTSTART:20201030T160000Z
DTEND:20201030T180000Z
DTSTAMP:20201027T212612Z
URL:https://rauszeit-termine.org/events/was-ist-faschismus-zum-einstieg-in
 -die-faschismustheorie/
SUMMARY:Was ist Faschismus? Zum Einstieg in die Faschismustheorie
DESCRIPTION:***Online Veranstaltung im Rahmen der Welcome to the Jungle Ver
 anstaltungsreihe***\nZoom Link zur Veranstaltung: https://zoom.us/j/910419
 49766\n\nSeitdem das Wort »Faschismus« nach dem Ersten Weltkrieg gepräg
 t wurde\, dient es nicht nur als sinnvolle Analysekategorie\, sondern auch
  als grenzenlos gebrauchter Kampfbegriff. Insbesondere von linker Seite wu
 rde dieser Begriff nicht selten auf alle möglichen autoritären und mensc
 henfeindlichen Tendenzen ausgeweitet und dadurch analytisch entwertet. Abs
 eits billiger Polemik existiert aber seit etwa 100 Jahren auch eine Tradit
 ion gesellschaftskritischer Forschung und Theoriebildung zum Faschismus. A
 us Faschismusforschung und Faschismustheorie lassen sich Erkenntnisse gewi
 nnen\, die für heutige Herausforderungen und Kämpfe wichtig sind. In der
  Veranstaltung wird zunächst ein sinnvoller\, einigermaßen genauer Fasch
 ismusbegriff vorgestellt. Danach diskutieren wir die Frage:\nIst die AfD e
 ine faschistische Partei? Wenn ja – in welcher Hinsicht? Falls nein – 
 warum nicht?\n\nMathias Wörsching (Berlin) ist Antifaschist\, Historiker 
 und Politologe. Er betreibt die Internetseite faschismustheorie.de und hat
  im Mai 2020 das Buch »Faschismustheorien – Überblick und Einführung
 « in der Reihe theorie.org vom Schmetterling-Verlag herausgebracht.\n\nOr
 ganisiert von Tique Hannover
END:VEVENT
END:VCALENDAR