BEGIN:VCALENDAR
VERSION:2.0
PRODID:-//wp-events-plugin.com//7.2.3.1//EN
TZID:Europe/Berlin
X-WR-TIMEZONE:Europe/Berlin
BEGIN:VEVENT
UID:6670@rauszeit-termine.org
DTSTART:20200305T173000Z
DTEND:20200305T173000Z
DTSTAMP:20200113T133907Z
URL:https://rauszeit-termine.org/events/warum-psychiatriekritik/
SUMMARY:Warum Psychiatriekritik?
DESCRIPTION:Vortrag &amp\; Power Point / Diskussion mit Thomas von der Psyc
 hiatrie-kritischen Initiative Tübingen (PKIT)\n\nPsychiatriekritik schein
 t selbst in linken Zusammenhängen aktuell wenig beachtet zu werden. Gewal
 t- und Herrschaftsebenen psychiatrischen Handelns - zwischen Freiheitsentz
 ug\, Zwangsmedikation und Zwangsfixierung - scheinen heute hinter dem Imag
 e des "Helfens und Heilens" unsichtbar zu werden. Während die Rechtfertig
 ung von Zwang über angebliche "Resozialisation" auch im Strafvollzug zu f
 inden ist\, lässt sich psychiatrischer Zwang unter medizinischen Begründ
 ungen und damit verbundenem Absprechen der Zurechnungsfähigkeit besonders
  elegant verbergen. Es gilt die Einstellung "Zwang als medizinische Notwen
 digkeit"\, womit jeglicher  politischer Auseinandersetzung der Boden entz
 ogen werden soll. Unter dem Aspekt von Tabuisierung psychischen Leidens un
 d Stigmatisierung von Betroffenen in der Gesellschaft\, scheint die Psychi
 atrie dabei noch „der Ort“ zu sein für jene Themen. Dies lässt die F
 rage aufkommen\, inwiefern die "Gitter" von Psychiatrie auch die gesamte G
 esellschaft durchziehen.\n\nNeben einem geschichtlichen Abriss und einer E
 inordnung von Psychiatrie und Kapitalismus sowie Herrschafts-Ideologien\, 
 wird es einen (noch zu) kleinen Ausblick in Perspektiven anderer Umgangswe
 isen mit psychischem Leiden und Irritation hervorrufenden Verhaltens-Abwei
 chungen geben.\n\n&nbsp\;\n\nDie Veranstaltung findet im Rahmen der Reihe 
 "Die Mauern dieser Gesellschaft - gegen Knast\, Psychiatrie und andere ein
 sperrende Institutionen" statt. Der Ort wird noch bekannt gegeben.
CATEGORIES:Vortrag
END:VEVENT
END:VCALENDAR