BEGIN:VCALENDAR
VERSION:2.0
PRODID:-//wp-events-plugin.com//7.2.3.1//EN
TZID:Europe/Berlin
X-WR-TIMEZONE:Europe/Berlin
BEGIN:VEVENT
UID:6744@rauszeit-termine.org
DTSTART:20200414T170000Z
DTEND:20200414T193000Z
DTSTAMP:20200312T130935Z
URL:https://rauszeit-termine.org/events/warum-feminismus-gut-fuer-maenner-
 ist-jana-haskamp/
SUMMARY:Warum Feminismus gut für Männer* ist / Jana Haskamp
DESCRIPTION:"Menschen\, die als (cis-)Männer leben\, geht es im patriarcha
 len System gut. Sie dürfen (meist) ohne Konsequenzen rumbrüllen\, ungefr
 agt Bilder ihrer Genitalien schicken\, jeden Job wählen\, den sie wollen\
 , beim Fußball auch mal weinen und neuerdings sogar in Elternzeit gehen. 
 Feministische Kämpfe braucht es (ihretwegen) nicht. Oder?\n\nDoch der Rau
 m\, der für den "richtigen Mann" vorgesehen ist\, kann sich eng anfühlen
 . Und um eine Chance auf Zugang zu diesem Raum zu haben\, müssen viele Me
 nschen dafür Teile von sich an der Tür abgeben. Feminismus kann helfen\,
  die Erfahrungen von Menschen\, die gelernt haben\, Männlichkeitsanforder
 ungen zu entsprechen\, zu übersetzen und einzuordnen.\n\nFeminismus macht
  die Arbeit nicht für sie\, aber kann ihnen das Werkzeug geben\, um in si
 ch selbst zu entdecken\, wo Männlichkeitsnormen in ihren Körpern wohnen 
 und wie diese in ihrer Art\, sich zu bewegen\, zu fühlen\, zu lieben und 
 in Beziehungen zu verhalten\, wirken.\n\nIn dem Vortrag wird es um (trans*
  und cis-)Männnlichkeiten gehen\, um die Frage nach deprivilegierten män
 nlichen Positionen\, um toxische Männlichkeit\, um soft boys\, (anti- und
  pro)feministische Männer* und um Angst vor Männern* (von Männern*)."\n
 \nJana Haskamp arbeitet als Sexualberaterin in Berlin und als Bildungsrefe
 rentin bundesweit. Sie verbindet in ihren Workshops\, Fortbildungen und Vo
 rträgen die Themen lsbtq*i+ Lebensweisen und sexuelle Bildung mit diskrim
 inierungs- und normkritischen Perspektiven.\n\nhttps://www.facebook.com/ev
 ents/197568044917285/\n\n&nbsp\;\n\n&nbsp\;\n\nDie Veranstaltung ist Teil 
 der “Feminismus geht jede*n etwas an!” Reihe vom AStA der Leibniz Uni.
  Mehr Infos zu der Reihe findet ihr auf http://www.asta-hannover.de/ oder 
 der AStA Facebook-Seite (https://www.facebook.com/astahannover/)
CATEGORIES:Vortrag
LOCATION:Elchkeller\, Schneiderberg 50\, Hannover\, Deutschland
X-APPLE-STRUCTURED-LOCATION;VALUE=URI;X-ADDRESS=Schneiderberg 50\, Hannover
 \, Deutschland;X-APPLE-RADIUS=100;X-TITLE=Elchkeller:geo:0,0
END:VEVENT
END:VCALENDAR