BEGIN:VCALENDAR
VERSION:2.0
PRODID:-//wp-events-plugin.com//7.2.3.1//EN
TZID:Europe/Berlin
X-WR-TIMEZONE:Europe/Berlin
BEGIN:VEVENT
UID:14092@rauszeit-termine.org
DTSTART;TZID=Europe/Berlin:20250110T150000
DTEND;TZID=Europe/Berlin:20250110T200000
DTSTAMP:20250106T115325Z
URL:https://rauszeit-termine.org/events/von-der-waffel-bis-nach-quito-helf
 t-uns-unsere-forschungsexkursion-zu-finanzieren/
SUMMARY:Von der Waffel bis nach Quito: Helft uns\, unsere Forschungsexkursi
 on zu finanzieren!
DESCRIPTION:Im Rahmen eines Forschungsmoduls im Studiengang Sozialwissensch
 aften möchten wir im Februar 2025 nach Ecuador fliegen! Wir wollen zur lo
 kalen Nachhaltigkeitspolitk forschen. Unsere Themenschwerpunkte sind Umwel
 t\, Gender und Migration. Um diesen Themen aber gerecht zu werden\, ist es
  unabdingbar\, „ins Feld zu gehen“! Hierbei sind wir auf Eure Hilfe an
 gewiesen\, da uns die Sparmaßnahmen der Leibniz Uni einen Strich durch di
 e Rechnung machen.\nEs ist kein Geheimnis\, dass wenig Gelder in die Gesel
 lschaftswissenschaften investiert werden. Als Studierende des B.A. Sowi be
 merken wir dies jedes Semester aufs Neue\, indem bspw. Kurse gestrichen\, 
 Hausarbeiten in Klausuren umstrukturiert – oder wie hier – die Finanzi
 erungen von Exkursionen nicht ausreichend gesichert werden. Wir lassen uns
  nicht kaputtsparen! Wir brauchen eine angemessene\, praxisnahe Lehre!\nUm
  uns als Studierende finanziell zu entlasten\, laden wir Euch herzlich zu 
 einem gemütlichen Nachmittag und Abend ein: Es wird Waffeln und Glühwein
  sowie einen Flohmarkt auf Spendenbasis geben  Alle Einnahmen dienen au
 snahmslos der Finanzierung unserer Exkursion.\nDas Ganze wird begleitet du
 rch entspannte Musik. Wir hoffen\, einen muckeligen Raum mit Wohlfühlatmo
 sphäre für Euch und Eure Freunde zu bieten. Um dies zu gewährleisten\, 
 stellen wir ein Awareness-Team\, bei welchem sich gemeldet werden kann\, s
 olltet Ihr diskriminierendes Verhalten erfahren.\nFalls Ihr noch Fragen ha
 bt\, könnt Ihr diese gerne an die folgende Mailadresse schicken: exkursio
 n.quito.2025@proton.me\nWir freuen uns auf Euch!\nEure Seminargruppe Buen 
 Vivir
CATEGORIES:Austausch,Café
LOCATION:Elchkeller\, Schneiderberg 50\, Hannover\, Deutschland
X-APPLE-STRUCTURED-LOCATION;VALUE=URI;X-ADDRESS=Schneiderberg 50\, Hannover
 \, Deutschland;X-APPLE-RADIUS=100;X-TITLE=Elchkeller:geo:0,0
END:VEVENT
BEGIN:VTIMEZONE
TZID:Europe/Berlin
X-LIC-LOCATION:Europe/Berlin
BEGIN:STANDARD
DTSTART:20241027T020000
TZOFFSETFROM:+0200
TZOFFSETTO:+0100
TZNAME:CET
END:STANDARD
END:VTIMEZONE
END:VCALENDAR