BEGIN:VCALENDAR
VERSION:2.0
PRODID:-//wp-events-plugin.com//7.2.3.1//EN
TZID:Europe/Berlin
X-WR-TIMEZONE:Europe/Berlin
BEGIN:VEVENT
UID:6669@rauszeit-termine.org
DTSTART:20200224T180000Z
DTEND:20200224T180000Z
DTSTAMP:20200113T133253Z
URL:https://rauszeit-termine.org/events/von-der-parkbank-in-die-offensive-
 repression-solidaritaet-im-kontext-des-verfahrens-gegen-die-3-von-der-park
 bank/
SUMMARY:Von der Parkbank in die Offensive - Repression &amp\; Solidarität 
 im Kontext des Verfahrens gegen die 3 von der Parkbank
DESCRIPTION:Anfang Juli 2019 wurden drei Gefährt_innen aus Hamburg auf ein
 er Parkbank festgenommen. Zwei sitzen seitdem in Untersuchungshaft\, die D
 ritte ist unter Auflagen draußen. Die Ermittlungen wurden von der General
 staatsanwaltschaft übernommen. Laut Anklageschrift wird ihnen die Vorbere
 itung (schwerer) Brandstiftung zum Jahrestag der G20-Revolte vorgeworfen.\
 n\nAm 08.01.2020 wurde der Prozess gegen die drei Gefährt_innen eröffnet
 .\n\nGemeinsam mit Menschen aus den Soli-Strukturen in Hamburg wollen wir 
 über den aktuellen Stand des Verfahrens und die Situation der Betroffenen
  sprechen. Wir möchten ins Gespräch über Möglichkeiten zur konkreten U
 nterstützung Gefangener sowie vielfältiger und offensiver Anti-Repressio
 ns-Arbeit kommen. Wir werden uns über unterschiedliche Formen von Solidar
 ität und ihre Bedeutung für unsere Leben\, Beziehungen und Kämpfe austa
 uschen.\n\n&nbsp\;\n\nDie Veranstaltung findet im Rahmen der Reihe "Die Ma
 uern dieser Gesellschaft - gegen Knast\, Psychiatrie und andere einsperren
 de Institutionen" statt
CATEGORIES:Diskussion,Infoveranstaltung
LOCATION:UJZ Korn\, Kornstraße 28-30\, Hannover\, Niedersachsen\, 30167\, 
 Hannover\, Deutschland
X-APPLE-STRUCTURED-LOCATION;VALUE=URI;X-ADDRESS=Kornstraße 28-30\, Hannove
 r\, Niedersachsen\, 30167\, Hannover\, Deutschland;X-APPLE-RADIUS=100;X-TI
 TLE=UJZ Korn:geo:0,0
END:VEVENT
END:VCALENDAR