BEGIN:VCALENDAR
VERSION:2.0
PRODID:-//wp-events-plugin.com//7.2.3.1//EN
TZID:Europe/Berlin
X-WR-TIMEZONE:Europe/Berlin
BEGIN:VEVENT
UID:156510@rauszeit-termine.org
DTSTART;TZID=Europe/Berlin:20260503T150000
DTEND;TZID=Europe/Berlin:20260503T150000
DTSTAMP:20260422T151600Z
URL:https://rauszeit-termine.org/events/von-der-arbeitslosenhilfe-zur-neue
 n-grundsicherung-verarmung-per-gesetz/
SUMMARY:Von der Arbeitslosenhilfe zur neuen Grundsicherung - Verarmung per 
 Gesetz
DESCRIPTION:Die CDU und die SPD kämpfen gegen die Arbeiterklasse. Die Tasc
 hen der Milliardäre werden gefüllt\, während die Taschen der Armen gele
 ert werden.\n\n"Es soll noch härter werden!" - Gegen Hart IV 08.04.26\n\n
 "Die geplanten Maßnahmen sind nicht bloß technische Korrekturen am herrs
 chenden System\, sondern Ausdruck eines politischen Kurses\, der stärker 
 auf Druck\, Kontrolle und Abschreckung setzt."\n\nUtz Anhalt spricht zur a
 ktuellen Reform des Bürgergelds.
ATTACH;FMTTYPE=image/jpeg:https://rauszeit-termine.org/wp-content/uploads/
 2026/04/GegenHartz.jpeg
CATEGORIES:Vortrag
LOCATION:Bürgerschule\, Klaus-Müller-Kilian-Weg 2\, Hannover\, 30167\, De
 utschland
X-APPLE-STRUCTURED-LOCATION;VALUE=URI;X-ADDRESS=Klaus-Müller-Kilian-Weg 2\
 , Hannover\, 30167\, Deutschland;X-APPLE-RADIUS=100;X-TITLE=Bürgerschule:
 geo:0,0
END:VEVENT
BEGIN:VTIMEZONE
TZID:Europe/Berlin
X-LIC-LOCATION:Europe/Berlin
BEGIN:DAYLIGHT
DTSTART:20260329T030000
TZOFFSETFROM:+0100
TZOFFSETTO:+0200
TZNAME:CEST
END:DAYLIGHT
END:VTIMEZONE
END:VCALENDAR