BEGIN:VCALENDAR
VERSION:2.0
PRODID:-//wp-events-plugin.com//7.2.3.1//EN
TZID:Europe/Berlin
X-WR-TIMEZONE:Europe/Berlin
BEGIN:VEVENT
UID:14586@rauszeit-termine.org
DTSTART;TZID=Europe/Berlin:20250322T200000
DTEND;TZID=Europe/Berlin:20250323T010000
DTSTAMP:20250220T220930Z
URL:https://rauszeit-termine.org/events/vinyl-release-konzert/
SUMMARY:Vinyl Release Konzert
DESCRIPTION:Release Konzert zur MitGifT X Drei Akkorde Beim Nächsten Mal -
 Split-LP\nLive on Stage:\nMitGifT (Punk aus Darmstadt)Drei Akkorde Beim N
 ächsten Mal (Punk aus Hannover)Deutsch &amp\; Seltsam (Punk aus Hannover)
 \nMitGifT gibt es mittlerweile schon seit 25Jahren. Die 4 Darmstädter spi
 elen abwechslungsreichen Deutschpunk\, der nicht wirklich in eine Schublad
 e passt. Energiegeladen und mit einer Brise Humor wird es auf ihren Konzer
 ten sicher nicht langweilig. Aber überzeugt euch am besten selbst!\nDrei 
 Akkorde Beim Nächsten Mal\, vier Menschen aus Hannover\, Wahnsinn³! Eine
  Mischung aus verspielten Texten\, heiklen Riffs und einer Brise Bier mach
 en dieses Erlebnis zu einem Ausflug in die frühen 90iger. Selbsternannte 
 Einreiseverbote in die USA und die Schweiz zeugen von ihrem ungebrochenen 
 Willen zum politischen Widerstand. Mal Zynisch\, mal sarkastisch\, mal iro
 nisch und manchmal gerade raus direkt auf die Fresse! Aber auf jeden Fall 
 immer Antifaschistisch!\nDeutsch &amp\; seltsam – aus HannoverDeutschpun
 k trifft auf seltsame Ideen und mitunter experimentelle Klänge. Drei Frau
 en und ein Typ machen Krach gegen alles was stört\, nervt oder anderweiti
 g irgendwie oder irgendwo dazu führt\, dass die Welt vor die Hunde geht. 
 Das Ergebnis: märchenhafte Traumwelten\, in denen Schneewittchen\, Rumpel
 stilzchen\, Puppenspieler und vielleicht auch die Hunde des Systems mit Ra
 ckete auf den point of no return zu steuern\, wo dann mit Verspätung endl
 ich alles gut wird. Oder auch nicht.Kommt\, staunt und tanzt!
ATTACH;FMTTYPE=image/jpeg:https://rauszeit-termine.org/wp-content/uploads/
 2025/02/Flyer-Release-Konzert-Hannover-online-700.jpg
CATEGORIES:Konzert
LOCATION:UJZ Korn\, Kornstraße 28-30\, Hannover\, Niedersachsen\, 30167\, 
 Hannover\, Deutschland
X-APPLE-STRUCTURED-LOCATION;VALUE=URI;X-ADDRESS=Kornstraße 28-30\, Hannove
 r\, Niedersachsen\, 30167\, Hannover\, Deutschland;X-APPLE-RADIUS=100;X-TI
 TLE=UJZ Korn:geo:0,0
END:VEVENT
BEGIN:VTIMEZONE
TZID:Europe/Berlin
X-LIC-LOCATION:Europe/Berlin
BEGIN:STANDARD
DTSTART:20241027T020000
TZOFFSETFROM:+0200
TZOFFSETTO:+0100
TZNAME:CET
END:STANDARD
END:VTIMEZONE
END:VCALENDAR