BEGIN:VCALENDAR
VERSION:2.0
PRODID:-//wp-events-plugin.com//7.2.3.1//EN
TZID:Europe/Berlin
X-WR-TIMEZONE:Europe/Berlin
BEGIN:VEVENT
UID:7000@rauszeit-termine.org
DTSTART:20201210T113000Z
DTEND:20201210T133000Z
DTSTAMP:20201202T154109Z
URL:https://rauszeit-termine.org/events/videostream-polizeigewalt-ein-deut
 sches-problem/
SUMMARY:Videostream: Polizeigewalt - Ein deutsches Problem
DESCRIPTION:10.12.2020 / 19:30 Uhr / kukoon.de\n\nPolizeigewalt – Ein deu
 tsches Problem\n\nDiskussionsveranstaltung mit Laila Abdul-Rahman (Ruhr-Un
 iversität Bochum)\, Grün-Weiße Hilfe Bremen und Kampagne für Opfer ras
 sistischer Polizeigewalt – KOP Bremen\n\nDie Veranstaltung wird live üb
 er die Internetseite kukoon.de übertragen.\n\nNachdem Mord an George Floy
 d ist es zu großen Protesten in den\nVereinigten Staaten gekommen. Auch i
 n Deutschland sterben schwarze Menschen in Polizeigewahrsam. Ihre Namen si
 nd weitgehend unbekannt: William Tonou-Mbobda\, Hussam Fadl\, Rooble Warsa
 me\, Oury Jalloh\, Yaya Diabi\, Amed A.\, Aamir Ageeb\, Achidi John\, Laya
 -Alama Condé\, Mohamed Idrissi - die Liste ließe sich fortsetzen.\n\nGem
 einsam mit Laila Abdul-Rahman vom Forschungsprojekt Körperverletzung im A
 mt an der Ruhr-Universität Bochum\, der Grün-Weißen Hilfe und der Kampa
 gne für Opfer rassistischer Polizeigewalt (KOP-Bremen) wollen wir die The
 men Polizeigewalt und rassistische Polizeigewalt beleuchten. Beginnt Poliz
 eigewalt nicht schon bei der sogenannten "Anlasslosen Kontrolle" oder dem 
 rechtswidrigen Kessel? Warum trifft sie manche Menschen häufiger als ande
 re? Wie geht die Polizei mit Kritik um? Und was unterscheidet die Gewalter
 fahrungen von Personen mit Migrationshintergrund sowie People of Color von
  Personen ohne Migrationshintergrund bzw. weißen Personen?\n\nEine Verans
 taltung des Kulturkombinat Offene Neustandt (Kukoon) in Kooperation mit de
 r Rosa-Luxemburg-Intiiative - Die Rosa-Luxemburg-Stiftung in Bremen und Pa
 rtnerschaft für Demokratie Bremen.
CATEGORIES:Vortrag
END:VEVENT
END:VCALENDAR