BEGIN:VCALENDAR
VERSION:2.0
PRODID:-//wp-events-plugin.com//7.2.3.1//EN
TZID:Europe/Berlin
X-WR-TIMEZONE:Europe/Berlin
BEGIN:VEVENT
UID:149848@rauszeit-termine.org
DTSTART;TZID=Europe/Berlin:20250911T190000
DTEND;TZID=Europe/Berlin:20250911T190000
DTSTAMP:20250831T152003Z
URL:https://rauszeit-termine.org/events/unser-haus-vortrag-und-diskussion/
SUMMARY:Unser Haus! - Vortrag und Diskussion
DESCRIPTION:"Die Häuser denen die drin Wohnen!"\, aber was passiert\, wenn
  es ein*e Investor*in kaufen will? Wie retten wir unser Haus vor dem Verka
 uf? Oder wie bauen wir uns selber eins? Oder kann nicht aus Leerstand "Uns
 er Haus" werden?\n\nZu einer möglichen Organisationsform des selbstbestim
 mten Wohnens wird es einen Input von einer Aktiven im Mietshäusersyndikat
  geben. Dazu soll es einen weiteren Erfahrungsaustausch &amp\; Diskussion 
 zur Strategieentwicklung im Kampf um selbstbestimmte Wohn- und Freiräume 
 geben.\n\nWann? Donnerstag\, 11.09.2025\, 19:00\n\nWo? Freizeitheim Linden
 \n\nDie Veranstaltung findet im Rahmen der Ausverkauf-Schluss-Wochen statt
 . Den Aufruf dazu findest du hier:\n\nAusverkauf-Schluss-Wochen: Einführu
 ng Basiswissen Wohnungspolitik
CATEGORIES:Ausverkauf-Schluss-Wochen,Diskussion,Vortrag
LOCATION:Freizeitheim Linden\, Windheimstraße 4\, Hannover\, Deutschland
X-APPLE-STRUCTURED-LOCATION;VALUE=URI;X-ADDRESS=Windheimstraße 4\, Hannove
 r\, Deutschland;X-APPLE-RADIUS=100;X-TITLE=Freizeitheim Linden:geo:0,0
END:VEVENT
BEGIN:VTIMEZONE
TZID:Europe/Berlin
X-LIC-LOCATION:Europe/Berlin
BEGIN:DAYLIGHT
DTSTART:20250330T030000
TZOFFSETFROM:+0100
TZOFFSETTO:+0200
TZNAME:CEST
END:DAYLIGHT
END:VTIMEZONE
END:VCALENDAR