BEGIN:VCALENDAR
VERSION:2.0
PRODID:-//wp-events-plugin.com//7.2.3.1//EN
TZID:Europe/Berlin
X-WR-TIMEZONE:Europe/Berlin
BEGIN:VEVENT
UID:14566@rauszeit-termine.org
DTSTART;TZID=Europe/Berlin:20250307T200000
DTEND;TZID=Europe/Berlin:20250307T211500
DTSTAMP:20250305T124002Z
URL:https://rauszeit-termine.org/events/universen-speak-low/
SUMMARY:Universen: Speak Low
DESCRIPTION:\n\n\n\n\n\n\n\n\n\n\nIm Rahmen des Feministischen Warm-Ups der
  Universen laden die beiden Musiker:innen Johannes Worms und Nasti zu ei
 nem einzigartigen\, zärtlichen Konzerterlebnis über Männlichkeit und qu
 eere Utopien ein. Das Duo widmet sich dem widerständigen Potential der Ga
 ttung Lied und erzählt dessen queere Geschichten. Sie kombinieren Kunstli
 ed mit Live-Elektronik und schaffen\, inspiriert von den historischen Schu
 bertiaden\, einen Ort\, an dem sie Musik und Gedanken teilen\, heteronorma
 tive Strukturen reflektieren und von binären Rollenerwartungen in der Kla
 ssik Abstand nehmen.\n\n\n\n\n\n\n\n\n\n\n\n\n\n\n \n\n\n\n
ATTACH;FMTTYPE=image/jpeg:https://rauszeit-termine.org/wp-content/uploads/
 2025/02/Press-5-by-Thi-Thuy-Nhi-Tran.jpg
CATEGORIES:Konzert,LGBT*I*Q,Performance,Theater
LOCATION:Schauspiel Hannover\, Prinzenstraße 9\, Hannover\, Deutschland
X-APPLE-STRUCTURED-LOCATION;VALUE=URI;X-ADDRESS=Prinzenstraße 9\, Hannover
 \, Deutschland;X-APPLE-RADIUS=100;X-TITLE=Schauspiel Hannover:geo:0,0
END:VEVENT
BEGIN:VTIMEZONE
TZID:Europe/Berlin
X-LIC-LOCATION:Europe/Berlin
BEGIN:STANDARD
DTSTART:20241027T020000
TZOFFSETFROM:+0200
TZOFFSETTO:+0100
TZNAME:CET
END:STANDARD
END:VTIMEZONE
END:VCALENDAR