BEGIN:VCALENDAR
VERSION:2.0
PRODID:-//wp-events-plugin.com//7.2.3.1//EN
TZID:Europe/Berlin
X-WR-TIMEZONE:Europe/Berlin
BEGIN:VEVENT
UID:14567@rauszeit-termine.org
DTSTART;TZID=Europe/Berlin:20250309T190000
DTEND;TZID=Europe/Berlin:20250309T203000
DTSTAMP:20250207T154256Z
URL:https://rauszeit-termine.org/events/universen-lesung-eure-heimat-ist-u
 nser-albtraum/
SUMMARY:UNIVERSEN: LESUNG Eure Heimat ist unser Albtraum
DESCRIPTION:Gemeinsam mit der Landeszentrale für politische Bildung Nieder
 sachsen laden die Universen am 9. März – gute zwei Wochen nach der Bu
 ndestagswahl – zu einer Lesung aus der Essay-Sammlung Eure Heimat ist u
 nser Albtraum ein.Wie fühlt es sich an\, tagtäglich als „Bedrohung“
  wahrgenommen zu werden? Wie viel Vertrauen besteht nach dem NSU-Skandal n
 och in die Sicherheitsbehörden? Was bedeutet es\, sich bei jeder Krise im
  Namen des gesamten Heimatlandes oder der Religionszugehörigkeit der Elte
 rn rechtfertigen zu müssen? Und wie wirkt sich Rassismus auf die Sexualit
 ät aus?Eure Heimat ist unser Albtraum ist ein Manifest gegen Heimat – 
 einem völkisch verklärten Konzept\, gegen dessen Normalisierung sich 14 
 deutschsprachige Autor:innen wehren. Zum einjährigen Bestehen des sogenan
 nten „Heimatministeriums“ sammeln Fatma Aydemir und Hengameh Yaghoobif
 arah schonungslose Perspektiven auf eine rassistische und antisemitische G
 esellschaft. In persönlichen Essays geben sie Einblick in ihren Alltag un
 d halten Deutschland den Spiegel vor: einem Land\, das sich als vorbildlic
 he Demokratie begreift und gleichzeitig einen Teil seiner Mitglieder als 
 »anders« markiert\, kaum schützt oder wertschätzt.Mit Beiträgen von S
 asha Marianna Salzmann\, Sharon Dodua Otoo\, Max Czollek\, Mithu Sanyal\, 
 Margarete Stokowski\, Olga Grjasnowa\, Reyhan Şahin\, Deniz Utlu\, Simone
  Dede Ayivi\, Enrico Ippolito\, Nadia Shehadeh\, Vina Yun\, Hengameh Yagho
 obifarah und Fatma Aydemir.
ATTACH;FMTTYPE=image/jpeg:https://rauszeit-termine.org/wp-content/uploads/
 2025/02/Hengameh-yaghoobifarah-c-Lior-Neumeister.jpg
CATEGORIES:Lesung/Buchvorstellung,Theater
LOCATION:Schauspiel Hannover\, Prinzenstraße 9\, Hannover\, Deutschland
X-APPLE-STRUCTURED-LOCATION;VALUE=URI;X-ADDRESS=Prinzenstraße 9\, Hannover
 \, Deutschland;X-APPLE-RADIUS=100;X-TITLE=Schauspiel Hannover:geo:0,0
END:VEVENT
BEGIN:VTIMEZONE
TZID:Europe/Berlin
X-LIC-LOCATION:Europe/Berlin
BEGIN:STANDARD
DTSTART:20241027T020000
TZOFFSETFROM:+0200
TZOFFSETTO:+0100
TZNAME:CET
END:STANDARD
END:VTIMEZONE
END:VCALENDAR