BEGIN:VCALENDAR
VERSION:2.0
PRODID:-//wp-events-plugin.com//7.2.3.1//EN
TZID:Europe/Berlin
X-WR-TIMEZONE:Europe/Berlin
BEGIN:VEVENT
UID:14681@rauszeit-termine.org
DTSTART;TZID=Europe/Berlin:20250320T220000
DTEND;TZID=Europe/Berlin:20250320T235900
DTSTAMP:20250303T173246Z
URL:https://rauszeit-termine.org/events/universen-eyde-nouruz-party/
SUMMARY:UNIVERSEN: EYDE NOURUZ PARTY
DESCRIPTION:\n\n\n\n\n\n\n\n\n\n\nAm 20. März feiern wir bei den Universe
 n gemeinsam Eyde Nouruz\, das Neujahrsfest zu Frühlingsbeginn. Nouruz be
 deutet wörtlich übersetzt neuer Tag. Ein neuer Tag\, der neue Hoffnung b
 ringt.Mit dieser Hoffnung blickten wir zuletzt auf die feministischen Käm
 pfe im Iran und stehen solidarisch mit den Gefangenen und Verfolgten diese
 s Widerstands. Wir sind der Überzeugung\, dass unsere Kämpfe miteinander
  verbunden sind und unser Widerstand intersektional sein muss. Wir gedenke
 n den Kämpfer:innen\, die ihr Leben im Widerstand verloren haben\, und al
 len politischen Gefangenen. Wir trauern\, und wir feiern auch\, um die Hof
 fnung und den Kampf lebendig zu halten. Inspiriert von Emma Goldmann sagen
  wir: „If I can't dance to it\, it's not my revolution.“Bei der Nouruz
 -Party könnt ihr ab 22:00 Uhr mit der Gastgeberin des Abends Golschan Ahm
 ad Haschemi aka DJ Golsche Sin Gübbana bis 02:00 Uhr auf dem Universen-Da
 ncefloor tanzen und mit uns den Frühlingsbeginn mit persisch-sprachigem P
 op aus den 1970ern\, -80ern\, -90ern und frühen 2000ern feiern.\n\n\n\n\n
 \n\n\n\n\n\n\n\n\n\n \n\n\n\n
ATTACH;FMTTYPE=image/jpeg:https://rauszeit-termine.org/wp-content/uploads/
 2025/03/0005.jpg
CATEGORIES:Party
LOCATION:CUMBERLANDSCHE BÜHNE\, Prinzenstraße 9\, Hannover\, Deutschland
X-APPLE-STRUCTURED-LOCATION;VALUE=URI;X-ADDRESS=Prinzenstraße 9\, Hannover
 \, Deutschland;X-APPLE-RADIUS=100;X-TITLE=CUMBERLANDSCHE BÜHNE:geo:0,0
END:VEVENT
BEGIN:VTIMEZONE
TZID:Europe/Berlin
X-LIC-LOCATION:Europe/Berlin
BEGIN:STANDARD
DTSTART:20241027T020000
TZOFFSETFROM:+0200
TZOFFSETTO:+0100
TZNAME:CET
END:STANDARD
END:VTIMEZONE
END:VCALENDAR