BEGIN:VCALENDAR
VERSION:2.0
PRODID:-//wp-events-plugin.com//7.2.3.1//EN
TZID:Europe/Berlin
X-WR-TIMEZONE:Europe/Berlin
BEGIN:VEVENT
UID:14564@rauszeit-termine.org
DTSTART;TZID=Europe/Berlin:20250305T200000
DTEND;TZID=Europe/Berlin:20250305T210000
DTSTAMP:20250207T151642Z
URL:https://rauszeit-termine.org/events/universen-dialoge-der-sprachlosigk
 eit-4/
SUMMARY:Universen: Dialoge der Sprachlosigkeit
DESCRIPTION:von xarpêt nach hannover nach dêrsim und kucax durch den euph
 rat und tigris durch die leine und ihme durch die spree die isar und thems
 e durch alle flecken dieser erde an denen ich verweilte an denen ich verwe
 ilt blieb zieht das schweigen seine bahnen zieht die sprachsuche ihre rout
 en auf den wegen liegen entweder steine und asphalt aus wort-unzulänglich
 keiten irgendetwas zu beschreiben oder es fließen in ihnen lücken in all
 e richtungen bis die lücken zu löchern wurden bis die leerstellen alle s
 ätze füllten und kein buchstabe mehr am straßenrand am ufer entlang gef
 unden werden kann.Die Suche nach den richtigen Worten begegnet uns allen\,
  ob im persönlichen Gespräch\, in der Öffentlichkeit oder im Sprechen 
 über politische Themen. Dîlan Z. Çapan nähert sich diesen Fragen aus i
 hrer Perspektive als Autorin und Regisseurin und stellt dabei sowohl unive
 rselle als auch partikulare Fragen nach Sprache und den Grenzen des Sagbar
 en: Wie beschreibt man Katastrophen\, deren Auswirkungen mit Sprache eigen
 tlich gar nicht zu erfassen sind? Was bedeutet es\, eine Sprache zu vermis
 sen\, mit der man auf die Welt gekommen ist?Der Abend wird von der Musiker
 in Dîlan Top begleitet. In der kurdischen Musik resonieren die Fragen und
  Gefühle\, die Dîlan Z. Çapan im ihrem Text verhandelt. Viele dieser Fr
 agen betreffen insbesondere Kurd:innen: aufgrund der globalen Unterdrücku
 ng und der teilweisen Leugnung ihrer Identität. Dennoch\, oder gerade des
 wegen\, ist kurdische Kultur\, insbesondere ihre Musik und Tänze als ihre
  wichtigsten Ausdrucksformen\, sehr lebendig. Es geht an diesem Abend also
  nicht zuletzt auch um die transformative Kraft\, die von der Sehnsucht si
 ch auszudrücken ausgeht\, und um Resilienz und Freude in noch so ernücht
 ernden Umständen.Zwischen Sprache und Schweigen\, Musik und Video nähert
  sich dialoge der sprachlosigkeit den Grenzen des Sagbaren und lädt in 
 der Sprache\, der Musik und im Dazwischen das Publikum ein\, seinen Gedank
 en und Gefühlen Raum zu geben. Ein poetischer Abend über das Suchen und 
 Vermissen von Sprache.\n&nbsp\;\nFot: Kerstin Schomburg
ATTACH;FMTTYPE=image/jpeg:https://rauszeit-termine.org/wp-content/uploads/
 2025/02/20240919-193923-ksc-1.jpg
CATEGORIES:BIPoC,Lesung/Buchvorstellung,Performance,Theater,Vorlesung
LOCATION:Schauspiel Hannover\, Prinzenstraße 9\, Hannover\, Deutschland
X-APPLE-STRUCTURED-LOCATION;VALUE=URI;X-ADDRESS=Prinzenstraße 9\, Hannover
 \, Deutschland;X-APPLE-RADIUS=100;X-TITLE=Schauspiel Hannover:geo:0,0
END:VEVENT
BEGIN:VTIMEZONE
TZID:Europe/Berlin
X-LIC-LOCATION:Europe/Berlin
BEGIN:STANDARD
DTSTART:20241027T020000
TZOFFSETFROM:+0200
TZOFFSETTO:+0100
TZNAME:CET
END:STANDARD
END:VTIMEZONE
END:VCALENDAR