BEGIN:VCALENDAR
VERSION:2.0
PRODID:-//wp-events-plugin.com//7.2.3.1//EN
TZID:Europe/Berlin
X-WR-TIMEZONE:Europe/Berlin
BEGIN:VEVENT
UID:150526@rauszeit-termine.org
DTSTART;TZID=Europe/Berlin:20251020T180000
DTEND;TZID=Europe/Berlin:20251020T180000
DTSTAMP:20251010T152422Z
URL:https://rauszeit-termine.org/events/unicorns-code-flinta-get-together/
SUMMARY:unicorns code - FLINTA* Get Together
DESCRIPTION:Zum Semesterstart bieten wir am 20.10 wieder ein Vernetzungstre
 ffen für Erst- und höhere Semester an.\n\nKommt vorbei!\n\nUm 18 Uhr geh
 t es im Elchkeller los!\n\nEuch erwartet ein Pubquiz und ein Basteltisch\,
  bringt auch gerne eure Handarbeiten oder anderen Bastelprojekte mit!\n\n(
 Quelle: unicorns code Hannover)
ATTACH;FMTTYPE=image/jpeg:https://rauszeit-termine.org/wp-content/uploads/
 2025/10/unicornscode.jpg
CATEGORIES:Safer Space,Sonstiges,Treffen
LOCATION:Elchkeller\, Schneiderberg 50\, Hannover\, Deutschland
X-APPLE-STRUCTURED-LOCATION;VALUE=URI;X-ADDRESS=Schneiderberg 50\, Hannover
 \, Deutschland;X-APPLE-RADIUS=100;X-TITLE=Elchkeller:geo:0,0
END:VEVENT
BEGIN:VTIMEZONE
TZID:Europe/Berlin
X-LIC-LOCATION:Europe/Berlin
BEGIN:DAYLIGHT
DTSTART:20250330T030000
TZOFFSETFROM:+0100
TZOFFSETTO:+0200
TZNAME:CEST
END:DAYLIGHT
END:VTIMEZONE
END:VCALENDAR