BEGIN:VCALENDAR
VERSION:2.0
PRODID:-//wp-events-plugin.com//7.2.3.1//EN
TZID:Europe/Berlin
X-WR-TIMEZONE:Europe/Berlin
BEGIN:VEVENT
UID:14185@rauszeit-termine.org
DTSTART;TZID=Europe/Berlin:20250126T150000
DTEND;TZID=Europe/Berlin:20250126T150000
DTSTAMP:20250116T212323Z
URL:https://rauszeit-termine.org/events/umsonst-flohmarkt/
SUMMARY:Umsonst-Flohmarkt
DESCRIPTION:Am Sonntag\, den 26.01.25\, gibt es einen kleinen Umsonst Flohm
 arkt im UJZ Korn \nDort gibt es allerlei Dinge\, welche ihr euch umsonst m
 itnehmen könnt. Gerne könnt ihr auch was mitbringen und dazulegen oder e
 intauschen.\n\nWir freuen uns auf euch! 
ATTACH;FMTTYPE=image/jpeg:https://rauszeit-termine.org/wp-content/uploads/
 2025/01/flohmarkt.jpg
CATEGORIES:Sonstiges
LOCATION:UJZ Korn\, Kornstraße 28-30\, Hannover\, Niedersachsen\, 30167\, 
 Hannover\, Deutschland
X-APPLE-STRUCTURED-LOCATION;VALUE=URI;X-ADDRESS=Kornstraße 28-30\, Hannove
 r\, Niedersachsen\, 30167\, Hannover\, Deutschland;X-APPLE-RADIUS=100;X-TI
 TLE=UJZ Korn:geo:0,0
END:VEVENT
BEGIN:VTIMEZONE
TZID:Europe/Berlin
X-LIC-LOCATION:Europe/Berlin
BEGIN:STANDARD
DTSTART:20241027T020000
TZOFFSETFROM:+0200
TZOFFSETTO:+0100
TZNAME:CET
END:STANDARD
END:VTIMEZONE
END:VCALENDAR