BEGIN:VCALENDAR
VERSION:2.0
PRODID:-//wp-events-plugin.com//7.2.3.1//EN
TZID:Europe/Berlin
X-WR-TIMEZONE:Europe/Berlin
BEGIN:VEVENT
UID:7244@rauszeit-termine.org
DTSTART;TZID=Europe/Berlin:20210603T190000
DTEND;TZID=Europe/Berlin:20210603T210000
DTSTAMP:20210603T171200Z
URL:https://rauszeit-termine.org/events/ueber-junge-burschen-und-alte-herr
 en-eine-einfuehrung-in-die-verbindungskritik/
SUMMARY:„Über junge Burschen und Alte Herren“ – Eine Einführung in 
 die Verbindungskritik
DESCRIPTION:Zugang über: https://zoom.us/j/98142285720\n\nAnders als in de
 n traditionellen Hochschulstädten sind Studentenverbindungen in Hannover 
 weniger auffällig. Doch auch hier gibt es aktuell 28 aktive Studentenverb
 indungen.\nDer Vortrag beinhaltet eine Einführung die die Kritik ALLER St
 udentenverbindungen bzw. des Prinzips Studentenverbindung. Dabei wird zwis
 chen den Arten der Studentenverbindungen differenziert\, ebenso aber auch 
 auf fehlende Abgrenzungen hingewiesen.\nDie Ausführungen werden mit lokal
 en Beispielen untermalt.\nDer Coburger Convent steht vor der Tür und find
 et in diesem Jahr coronabedingt in Hannover statt. Für uns ein willkommen
 er Anlass\, sich dem Selbstbild der unter dem Verband des Coburger Convent
 s organisierten Landsmannschaft\, als "modern und demokratisch" zu widmen 
 und zu zeigen\, was sich eigentlich hinter den rein männlichen Verbindung
 en verbirgt. Spoiler: Es widerspricht dem Selbstbild und ist alles andere 
 als progressiv.\nDabei soll es nicht nur im Konkreten\, um die Landsmannsc
 haften und Turnerschaften gehen\, die sich am Wochenende um den 5. Juni in
  Hannover treffen. Wir wollen das unterschiedliche Potenzial rechter Mobil
 isierung in den verschiedenen Verbindungstypen in den Blick nehmen\, auf d
 ie überkommenen Geschlechterrollen eingehen sowie eine grundlegende Kriti
 k mit dem Verweis auf die geschichtliche Entstehung von Verbindungen darle
 gen.\nReferent: Lucius Teidelbaum ist freier Journalist\, Publizist und Re
 chercheur. Von ihm erschien zuletzt im Unrast-Verlag das Buch „Die chris
 tliche Rechte in Deutschland“ (2018).
CATEGORIES:Vortrag
END:VEVENT
BEGIN:VTIMEZONE
TZID:Europe/Berlin
X-LIC-LOCATION:Europe/Berlin
BEGIN:DAYLIGHT
DTSTART:20210328T030000
TZOFFSETFROM:+0100
TZOFFSETTO:+0200
TZNAME:CEST
END:DAYLIGHT
END:VTIMEZONE
END:VCALENDAR