BEGIN:VCALENDAR
VERSION:2.0
PRODID:-//wp-events-plugin.com//7.2.3.1//EN
TZID:Europe/Berlin
X-WR-TIMEZONE:Europe/Berlin
BEGIN:VEVENT
UID:7136@rauszeit-termine.org
DTSTART;TZID=Europe/Berlin:20210302T200000
DTEND;TZID=Europe/Berlin:20210302T213000
DTSTAMP:20210226T130914Z
URL:https://rauszeit-termine.org/events/ueber-die-parteiendemokratie-und-d
 arueber-hinaus/
SUMMARY:Über die Parteiendemokratie und darüber hinaus.
DESCRIPTION:Der Wissenschaftsladen Hannover e.V. veranstaltet am 02.03.2021
  (Dienstag) um 20 Uhr in Kooperation mit Faust-TV eine Diskussion zur Demo
 kratie und der heutigen Rolle der Parteien in ihr als ein Online-Format.\n
 \nZu Gast sind\n\n 	Jasmin Arbarbian-Vogel (SPD) [Eine Kurzvita]\n 	Julian
  Klippert (Die PARTEI) [die Fraktion-Vorsitzender]\n 	Felix Kostrzewa (Wis
 senschaftsladen Hannover) [guckt gern hin]\n\nModeriert wird die Sendung v
 on Frau Dr. Christine Schwarz (freie Moderatorin und Beirätin im Vorstand
  des Vereins Wissenschaftsladen)\n\nPotentielle Inhaltliche Themen: Was ma
 chen wir und was macht eine Partei heute? Hat sich das Modell Volkspartei 
 überlebt? Zerstört oder erneuert Satire die politische Landschaft? Welch
 e Alternative hat die moderne Gesellschaft zu dieser Form der politischen 
 Willensbildung?\nIst der Populismus 'parteisch' zu besiegen? Ist die Parte
 i ernst zu nehmen? Welche Rolle kann eine Volkspartei wie die SPD heute no
 ch haben? Sind die Herausforderungen von Heute mit unserer Parteiendemokra
 tie zu bewältigen? Was kann eine Partei zur Politikverdrossenheit beitrag
 en oder entgegenwirken? uvm...\n\nDie Zuschauer*innen können sich mit eig
 enen Fragen über den Chat des Faust-TV-Kanals beteiligen.\n\nDer Zugang i
 st frei und direkt über https://www.kulturzentrum-faust.de/faust-tv.html 
 im Browser möglich.\n\n&nbsp\;\n\n&nbsp\;\n\nhttps://www.kulturzentrum-fa
 ust.de/veranstaltungen/maerz/02-03-21-ueber-die-zukunft-der-parteiendemokr
 atie-und-darueber-hinaus.html
CATEGORIES:Diskussion,Infoveranstaltung
LOCATION:https://www.kulturzentrum-faust.de/faust-tv.html
END:VEVENT
BEGIN:VTIMEZONE
TZID:Europe/Berlin
X-LIC-LOCATION:Europe/Berlin
BEGIN:STANDARD
DTSTART:20201025T020000
TZOFFSETFROM:+0200
TZOFFSETTO:+0100
TZNAME:CET
END:STANDARD
END:VTIMEZONE
END:VCALENDAR