BEGIN:VCALENDAR
VERSION:2.0
PRODID:-//wp-events-plugin.com//7.2.3.1//EN
TZID:Europe/Berlin
X-WR-TIMEZONE:Europe/Berlin
BEGIN:VEVENT
UID:7017@rauszeit-termine.org
DTSTART:20210103T190000Z
DTEND:20210103T210000Z
DTSTAMP:20201225T231321Z
URL:https://rauszeit-termine.org/events/ueber-antifeminismus-bei-corona-ve
 rschwoerungserzaehlungen/
SUMMARY:Über Antifeminismus bei Corona-Verschwörungserzählungen
DESCRIPTION:***Online-Veranstaltung - Zugang über: https://zoom.us/j/94114
 120896***\n\n\nSeit Mitte der 2000er Jahre sind die Beschwörungen von “
 Gender-Ideologie”\, “Erziehung zum Einheitsmenschen” und “feminist
 ische Weltverschwörung” mindestens unter AntifeministInnen in aller Mun
 de. Im Vortrag zeigt Rebekka Blum die Gefahr des Antifeminismus als mobili
 sierende Bindeglied-Ideologie von konservativen\, religiös-fundamentalist
 ischen\, maskulinistischen bis hin zu (extrem) rechten Bewegungen nach. Da
 von ausgehend geht sie auf aktuelle antifeministische Entwicklungen bei de
 n verschwörungsideologischen Protesten gegen die Corona-Maßnahmen ein un
 d zeigt die Verschränkung von Antifeminismus zu weiteren Ideologien wie R
 assismus\, völkischer Ideologie und insbesondere Antisemitismus auf. Der 
 Vortrag verdeutlicht\, dass es notwendig ist Antifeminismus als Bestandtei
 l rechter Ideologie und gefährliches Phänomen ernst zu nehmen und zu bek
 ämpfen.\nZur Person:\nRebekka Blum ist Soziologin\, politische Bildnerin 
 und Publizistin mit den Schwerpunkten Antifeminismus und (extreme) Rechte.
  Im Frühjahr 2019 ihr ist Buch „Angst um die Vormachtstellung. Zum Begr
 iff und zur Geschichte des deutschen Antifeminismus“ bei marta press ers
 chienen. Sie promoviert zu „Antifeminismus in Westdeutschland zwischen 1
 945 und 1990“ und ist Mitglied im Netzwer femPI (feministische Perspekti
 ven und Intervention gegen die (extreme) Rechte).\nLink zum Buch:\nhttps:/
 /www.marta-press.de/.../angst-um-die...
CATEGORIES:Vortrag
LOCATION:Online\, -\, -\, Deutschland
X-APPLE-STRUCTURED-LOCATION;VALUE=URI;X-ADDRESS=-\, -\, Deutschland;X-APPLE
 -RADIUS=100;X-TITLE=Online:geo:0,0
END:VEVENT
END:VCALENDAR