BEGIN:VCALENDAR
VERSION:2.0
PRODID:-//wp-events-plugin.com//7.2.3.1//EN
TZID:Europe/Berlin
X-WR-TIMEZONE:Europe/Berlin
BEGIN:VEVENT
UID:150283@rauszeit-termine.org
DTSTART;TZID=Europe/Berlin:20250920T130000
DTEND;TZID=Europe/Berlin:20250920T170000
DTSTAMP:20250917T185938Z
URL:https://rauszeit-termine.org/events/total-liberation-demo/
SUMMARY:Total Liberation Demo
DESCRIPTION:Wir sind ein intersektionales Bündnis aus einigen linken Beweg
 ungen aus der Region Hannover. Im Abschluss an die Klimademo wollen wir mi
 t Redebeiträgen\, Livemusik\, Essensständen\, Künstler*innen und Pavill
 ons sowie einer lauten Laufdemo Aufmerksamkeit auf die Verbundenheit der S
 truggles lenken und unsere geschlossene Solidarität im Kampf gegen Ausbeu
 tung und Unterdrückung laut und entschlossen demonstrieren!\nSei dabei\, 
 teil die Aktion mit anderen\, folg uns auf Instagram und schreib uns bei F
 ragen gern an!\n@total.liberation.hannover\ntotal_liberation_hannover@rise
 up.net
ATTACH;FMTTYPE=image/jpeg:https://rauszeit-termine.org/wp-content/uploads/
 2025/09/total-liberation.jpg
CATEGORIES:Demo
LOCATION:Steintor Hannover\, Steintor Hannover\, Steintor Hannover\, Deutsc
 hland
X-APPLE-STRUCTURED-LOCATION;VALUE=URI;X-ADDRESS=Steintor Hannover\, Steinto
 r Hannover\, Deutschland;X-APPLE-RADIUS=100;X-TITLE=Steintor Hannover:geo:
 0,0
END:VEVENT
BEGIN:VTIMEZONE
TZID:Europe/Berlin
X-LIC-LOCATION:Europe/Berlin
BEGIN:DAYLIGHT
DTSTART:20250330T030000
TZOFFSETFROM:+0100
TZOFFSETTO:+0200
TZNAME:CEST
END:DAYLIGHT
END:VTIMEZONE
END:VCALENDAR