BEGIN:VCALENDAR
VERSION:2.0
PRODID:-//wp-events-plugin.com//7.2.3.1//EN
TZID:Europe/Berlin
X-WR-TIMEZONE:Europe/Berlin
BEGIN:VEVENT
UID:150284@rauszeit-termine.org
DTSTART;TZID=Europe/Berlin:20250920T190000
DTEND;TZID=Europe/Berlin:20250920T220000
DTSTAMP:20250917T190508Z
URL:https://rauszeit-termine.org/events/tiles-traces-vernissage/
SUMMARY:tiles &amp\; traces - Vernissage
DESCRIPTION:Salima El Kurdi\, Damaris Beygang und Gina Job – drei AWP-Age
 ntinnen\, zwei Kameras\, ein Plan: Die Erkundung des Badezimmers. Der inti
 me Rückzugsort wird von den Künstlerinnen zum Raum der Inszenierung und 
 (Selbst)Darstellung erklärt. Ihre fotografische Spurensuche zeigt die ind
 ividuellen Körper der Menschen in Routinen\, Rollen und Posen: Verletzlic
 h\, selbstbewusst\, ironisch und im Bewusstsein der Beobachtung. Zwischen 
 Kacheln und Wannenrand stellen sich aber auch Fragen: Wer hat Zugang zum i
 ntimsten Ort im Leben? Wer darf sich zurückziehen? Und was ist\, wenn das
  Bad zum Luxus wird?\n
CATEGORIES:Ausstellung
LOCATION:Galerie Brutal\, Ihmeplatz 8H (Ihmezentrum)\, Hannover\, Deutschla
 nd
X-APPLE-STRUCTURED-LOCATION;VALUE=URI;X-ADDRESS=Ihmeplatz 8H (Ihmezentrum)\
 , Hannover\, Deutschland;X-APPLE-RADIUS=100;X-TITLE=Galerie Brutal:geo:0,0
END:VEVENT
BEGIN:VTIMEZONE
TZID:Europe/Berlin
X-LIC-LOCATION:Europe/Berlin
BEGIN:DAYLIGHT
DTSTART:20250330T030000
TZOFFSETFROM:+0100
TZOFFSETTO:+0200
TZNAME:CEST
END:DAYLIGHT
END:VTIMEZONE
END:VCALENDAR