BEGIN:VCALENDAR
VERSION:2.0
PRODID:-//wp-events-plugin.com//7.2.3.1//EN
TZID:Europe/Berlin
X-WR-TIMEZONE:Europe/Berlin
BEGIN:VEVENT
UID:147236@rauszeit-termine.org
DTSTART;TZID=Europe/Berlin:20250419T193000
DTEND;TZID=Europe/Berlin:20250419T234500
DTSTAMP:20250416T184209Z
URL:https://rauszeit-termine.org/events/the-antiprenuers-gosse-damaged-lif
 e-deutsch-seltsam/
SUMMARY:The Antiprenuers + Gosse + Damaged Life + Deutsch &amp\; Seltsam
DESCRIPTION:The Antiprenuers\nBandcamp\n\nGosse\nBandcamp\n\nDamaged Life\n
 Bandcamp\n\nDeutsch &amp\; Seltsam\n\n
CATEGORIES:Konzert
LOCATION:Stumpf\, Welfengarten 2c\, Hannover\, Niedersachsen\, 30167\, Deut
 schland
X-APPLE-STRUCTURED-LOCATION;VALUE=URI;X-ADDRESS=Welfengarten 2c\, Hannover\
 , Niedersachsen\, 30167\, Deutschland;X-APPLE-RADIUS=100;X-TITLE=Stumpf:ge
 o:0,0
END:VEVENT
BEGIN:VTIMEZONE
TZID:Europe/Berlin
X-LIC-LOCATION:Europe/Berlin
BEGIN:DAYLIGHT
DTSTART:20250330T030000
TZOFFSETFROM:+0100
TZOFFSETTO:+0200
TZNAME:CEST
END:DAYLIGHT
END:VTIMEZONE
END:VCALENDAR