BEGIN:VCALENDAR
VERSION:2.0
PRODID:-//wp-events-plugin.com//7.2.3.1//EN
TZID:Europe/Berlin
X-WR-TIMEZONE:Europe/Berlin
BEGIN:VEVENT
UID:154601@rauszeit-termine.org
DTSTART;TZID=Europe/Berlin:20261224T000000
DTEND;TZID=Europe/Berlin:20261224T000000
DTSTAMP:20260307T190224Z
URL:https://rauszeit-termine.org/events/testva/
SUMMARY:TestVA
DESCRIPTION:
CATEGORIES:Sonstiges
END:VEVENT
BEGIN:VTIMEZONE
TZID:Europe/Berlin
X-LIC-LOCATION:Europe/Berlin
BEGIN:STANDARD
DTSTART:20261025T020000
TZOFFSETFROM:+0200
TZOFFSETTO:+0100
TZNAME:CET
END:STANDARD
END:VTIMEZONE
END:VCALENDAR