BEGIN:VCALENDAR
VERSION:2.0
PRODID:-//wp-events-plugin.com//7.2.3.1//EN
TZID:Europe/Berlin
X-WR-TIMEZONE:Europe/Berlin
BEGIN:VEVENT
UID:156504@rauszeit-termine.org
DTSTART;TZID=Europe/Berlin:20260501T150000
DTEND;TZID=Europe/Berlin:20260501T230000
DTSTAMP:20260418T190121Z
URL:https://rauszeit-termine.org/events/tanz-in-den-widerstand/
SUMMARY:Tanz in den Widerstand
DESCRIPTION:Nach der Demo noch nichts vor ?\n\nDie Straße gehört uns - un
 d der Dancefloor auch.\nFeiert mit uns und Rosa e.V. den Tanz in den Wider
 stand\, 01.05. ab 15 Uhr im Café Erhardt. Von 16 bis 23 Uhr spielen wir f
 ür euch ! Kostenlos\, kollektiv\, laut. Spenden gerne\, Tanzen Pflicht. &
 #x1f483\;&#x1f57a\;
ATTACH;FMTTYPE=image/jpeg:https://rauszeit-termine.org/wp-content/uploads/
 2026/04/tanz-in-den-widerstand.jpg
CATEGORIES:Party
LOCATION:Café Erhardt\, Limmerstraße 46\, Hannover\, Deutschland
X-APPLE-STRUCTURED-LOCATION;VALUE=URI;X-ADDRESS=Limmerstraße 46\, Hannover
 \, Deutschland;X-APPLE-RADIUS=100;X-TITLE=Café Erhardt:geo:0,0
END:VEVENT
BEGIN:VTIMEZONE
TZID:Europe/Berlin
X-LIC-LOCATION:Europe/Berlin
BEGIN:DAYLIGHT
DTSTART:20260329T030000
TZOFFSETFROM:+0100
TZOFFSETTO:+0200
TZNAME:CEST
END:DAYLIGHT
END:VTIMEZONE
END:VCALENDAR