BEGIN:VCALENDAR
VERSION:2.0
PRODID:-//wp-events-plugin.com//7.2.3.1//EN
TZID:Europe/Berlin
X-WR-TIMEZONE:Europe/Berlin
BEGIN:VEVENT
UID:150512@rauszeit-termine.org
DTSTART;TZID=Europe/Berlin:20251003T173000
DTEND;TZID=Europe/Berlin:20251003T173000
DTSTAMP:20251003T105248Z
URL:https://rauszeit-termine.org/events/talk-about-sudan/
SUMMARY:Talk about Sudan
DESCRIPTION:
ATTACH;FMTTYPE=image/jpeg:https://rauszeit-termine.org/wp-content/uploads/
 2025/10/Sudan.jpeg
CATEGORIES:Infoveranstaltung
LOCATION:Garage Nord\, Weidendamm 28\, Hannover\, Deutschland
X-APPLE-STRUCTURED-LOCATION;VALUE=URI;X-ADDRESS=Weidendamm 28\, Hannover\, 
 Deutschland;X-APPLE-RADIUS=100;X-TITLE=Garage Nord:geo:0,0
END:VEVENT
BEGIN:VTIMEZONE
TZID:Europe/Berlin
X-LIC-LOCATION:Europe/Berlin
BEGIN:DAYLIGHT
DTSTART:20250330T030000
TZOFFSETFROM:+0100
TZOFFSETTO:+0200
TZNAME:CEST
END:DAYLIGHT
END:VTIMEZONE
END:VCALENDAR