BEGIN:VCALENDAR
VERSION:2.0
PRODID:-//wp-events-plugin.com//7.2.3.1//EN
TZID:Europe/Berlin
X-WR-TIMEZONE:Europe/Berlin
BEGIN:VEVENT
UID:6871@rauszeit-termine.org
DTSTART:20200927T080000Z
DTEND:20200927T150000Z
DTSTAMP:20200818T094342Z
URL:https://rauszeit-termine.org/events/tagung-gegen-die-kriminalisierung-
 der-kurdischen-bewegung-in-bremen-und-niedersachsen/
SUMMARY:Tagung gegen die Kriminalisierung der kurdischen Bewegung in Bremen
  und Niedersachsen
DESCRIPTION:Mit einer regionalen Tagung wollen der Rechtshilfefonds AZADÎ 
 e.V.\, BIRATÎ e.V. Bremen und NAV-DEM - Demokratisches Gesellschaftszentr
 um der Kurd*innen in Hannover e.V. die Kriminalisierung der kurdischen Bew
 egung und der Kurdistan-Solidarität in Bremen und Niedersachsen zur Disku
 ssion stellen und gemeinsam Gegenstrategien entwickeln.
CATEGORIES:Kongress
LOCATION:Kulturzentrum Pavillon\, Lister Meile 4\, Hannover\, 30161\, Deuts
 chland
X-APPLE-STRUCTURED-LOCATION;VALUE=URI;X-ADDRESS=Lister Meile 4\, Hannover\,
  30161\, Deutschland;X-APPLE-RADIUS=100;X-TITLE=Kulturzentrum Pavillon:geo
 :0,0
END:VEVENT
END:VCALENDAR