BEGIN:VCALENDAR
VERSION:2.0
PRODID:-//wp-events-plugin.com//7.2.3.1//EN
TZID:Europe/Berlin
X-WR-TIMEZONE:Europe/Berlin
BEGIN:VEVENT
UID:150359@rauszeit-termine.org
DTSTART;TZID=Europe/Berlin:20250919T190000
DTEND;TZID=Europe/Berlin:20250919T203000
DTSTAMP:20250917T094730Z
URL:https://rauszeit-termine.org/events/table-quiz/
SUMMARY:Table Quiz
DESCRIPTION:Wer wird Milliardär? Vom verrücktesten Luxus\, ungleicher Ges
 ellschaft und absurder Politik - am Freitag gibt's ein Tablequiz um eines 
 der wahrscheinlich wichtigsten Thema unserer Zeit: Überreichtum!\nKommt a
 m Freitagabend zum Open Air Tablequiz in die Baulücke\, schnappt euch ger
 ne eure Friends und bringt sie mit! Auf euch wartet zwar nicht die Milliar
 de aber viel (un)nötiges Wissen und ein netter Abend :)
CATEGORIES:Sonstiges
LOCATION:Bürger*innengarten Baulücke\, neben Café Safran\, hinter Brauns
 traße 28 \, Hannover\, Deutschland
X-APPLE-STRUCTURED-LOCATION;VALUE=URI;X-ADDRESS=neben Café Safran\, hinter
  Braunstraße 28 \, Hannover\, Deutschland;X-APPLE-RADIUS=100;X-TITLE=Bür
 ger*innengarten Baulücke:geo:0,0
END:VEVENT
BEGIN:VTIMEZONE
TZID:Europe/Berlin
X-LIC-LOCATION:Europe/Berlin
BEGIN:DAYLIGHT
DTSTART:20250330T030000
TZOFFSETFROM:+0100
TZOFFSETTO:+0200
TZNAME:CEST
END:DAYLIGHT
END:VTIMEZONE
END:VCALENDAR