BEGIN:VCALENDAR
VERSION:2.0
PRODID:-//wp-events-plugin.com//7.2.3.1//EN
TZID:Europe/Berlin
X-WR-TIMEZONE:Europe/Berlin
BEGIN:VEVENT
UID:13998@rauszeit-termine.org
DTSTART;TZID=Europe/Berlin:20250108T180000
DTEND;TZID=Europe/Berlin:20250108T180000
DTSTAMP:20250104T033607Z
URL:https://rauszeit-termine.org/events/studis-gegen-rechts-plenum-2025-01
 -08/
SUMMARY:Studis gegen Rechts Plenum
DESCRIPTION:Das Plenum ist unser zentraler Organisierungs- und Entscheidung
 sort. Hier planen wir konkrete Aktionen\, mit denen wir uns dem Faschismus
  entgegenstellen. Nach dem Plenum bleiben wir häufig noch auf ein Gesprä
 ch\, ein Getränk oder eine kurzfristige Aktion\, wie Flyern\, Stickern od
 er Plakatieren.
ATTACH;FMTTYPE=image/jpeg:https://rauszeit-termine.org/wp-content/uploads/
 2025/01/SGR-Logo-SVG_Rund_Rauszeit.png
CATEGORIES:Plenum
LOCATION:Conti-Hochhaus\, Raum 103\, Königsworther Platz\, Hannover\, 3016
 7\, Deutschland
X-APPLE-STRUCTURED-LOCATION;VALUE=URI;X-ADDRESS=Königsworther Platz\, Hann
 over\, 30167\, Deutschland;X-APPLE-RADIUS=100;X-TITLE=Conti-Hochhaus\, Rau
 m 103:geo:0,0
END:VEVENT
BEGIN:VTIMEZONE
TZID:Europe/Berlin
X-LIC-LOCATION:Europe/Berlin
BEGIN:STANDARD
DTSTART:20241027T020000
TZOFFSETFROM:+0200
TZOFFSETTO:+0100
TZNAME:CET
END:STANDARD
END:VTIMEZONE
END:VCALENDAR