BEGIN:VCALENDAR
VERSION:2.0
PRODID:-//wp-events-plugin.com//7.2.3.1//EN
TZID:Europe/Berlin
X-WR-TIMEZONE:Europe/Berlin
BEGIN:VEVENT
UID:14572@rauszeit-termine.org
DTSTART;TZID=Europe/Berlin:20250214T120000
DTEND;TZID=Europe/Berlin:20250214T140000
DTSTAMP:20250213T204942Z
URL:https://rauszeit-termine.org/events/stoppt-die-abschiebungen-in-den-ir
 ak/
SUMMARY:Stoppt die Abschiebungen in den Irak!
DESCRIPTION:Kommt mit\, um gemeinsam gegen Abschiebung und für das Bleiber
 echt der Ezidinnen und Eziden zu demonstrieren. Der Genozid an Eziden ist 
 noch nicht beendet\, die Menschen sind keineswegs in Sicherheit\, wenn sie
  in den Irak abgeschoben werden. Dem wollen wir uns entschieden entgegen s
 tellen und an die Menschlichkeit unserer Politik appellieren.\n\nSo lange 
 Ezidinnen und Eziden in Singal und nicht sicher sind\, benötigen sie hier
  ein Bleiberecht.
ATTACH;FMTTYPE=image/jpeg:https://rauszeit-termine.org/wp-content/uploads/
 2025/02/478674294_17944173323957294_2946736293214438856_n.jpeg
CATEGORIES:Demo
LOCATION:Hannah-Arendt-Platz\, Hannah-Arendt-Platz 1\, Hannover\, 30159\, D
 eutschland
X-APPLE-STRUCTURED-LOCATION;VALUE=URI;X-ADDRESS=Hannah-Arendt-Platz 1\, Han
 nover\, 30159\, Deutschland;X-APPLE-RADIUS=100;X-TITLE=Hannah-Arendt-Platz
 :geo:0,0
END:VEVENT
BEGIN:VTIMEZONE
TZID:Europe/Berlin
X-LIC-LOCATION:Europe/Berlin
BEGIN:STANDARD
DTSTART:20241027T020000
TZOFFSETFROM:+0200
TZOFFSETTO:+0100
TZNAME:CET
END:STANDARD
END:VTIMEZONE
END:VCALENDAR