BEGIN:VCALENDAR
VERSION:2.0
PRODID:-//wp-events-plugin.com//7.2.3.1//EN
TZID:Europe/Berlin
X-WR-TIMEZONE:Europe/Berlin
BEGIN:VEVENT
UID:14580@rauszeit-termine.org
DTSTART;TZID=Europe/Berlin:20250217T063500
DTEND;TZID=Europe/Berlin:20250217T063500
DTSTAMP:20250214T230821Z
URL:https://rauszeit-termine.org/events/stop-deportations/
SUMMARY:Stop Deportations
DESCRIPTION:Leider soll am 17.02. wieder eine Sammelabschiebung aus Hannove
 r stattfinden. Dieses Mal sollen Menschen in den Irak abgeschoben werden\,
  ein Land welches seit vielen Jahren von gewaltvollen Auseinandersetzungen
  geprägt ist und in dem insbesondere Jesid:innen nach wie vor nicht siche
 r sind.\nWir werden daher gegen die Abschiebung protestieren und wieder ge
 meinsam am Flughafen sein. Kommt mit und zeigt euch solidarisch mit den Me
 nschen\, die abgeschoben werden sollen!\n\n‼️Es können sich noch kurz
 fristig Zeiten ändern\, bleibt also informiert ‼️\n\nFür mehr Hinter
 gründe zu der geplanten Abschiebung in den Irak am kommenden Montag\, hie
 r die Pressemitteilung vom Flüchtlingsrat Niedersachsen: https://www.nds-
 fluerat.org/61750/aktuelles/30-jaehrigem-eziden-aus-dem-shingal-droht-absc
 hiebung-aus-niedersachsen-in-den-irak/
ATTACH;FMTTYPE=image/jpeg:https://rauszeit-termine.org/wp-content/uploads/
 2025/02/stop-deportations.jpg
CATEGORIES:Aktion
LOCATION:Hauptbahnhof Hannover\, Ernst-August-Platz 1\, Hannover\, Niedersa
 chsen\, 30159\, Deutschland
X-APPLE-STRUCTURED-LOCATION;VALUE=URI;X-ADDRESS=Ernst-August-Platz 1\, Hann
 over\, Niedersachsen\, 30159\, Deutschland;X-APPLE-RADIUS=100;X-TITLE=Haup
 tbahnhof Hannover:geo:0,0
END:VEVENT
BEGIN:VTIMEZONE
TZID:Europe/Berlin
X-LIC-LOCATION:Europe/Berlin
BEGIN:STANDARD
DTSTART:20241027T020000
TZOFFSETFROM:+0200
TZOFFSETTO:+0100
TZNAME:CET
END:STANDARD
END:VTIMEZONE
END:VCALENDAR