BEGIN:VCALENDAR
VERSION:2.0
PRODID:-//wp-events-plugin.com//7.2.3.1//EN
TZID:Europe/Berlin
X-WR-TIMEZONE:Europe/Berlin
BEGIN:VEVENT
UID:149830@rauszeit-termine.org
DTSTART;TZID=Europe/Berlin:20250914T140000
DTEND;TZID=Europe/Berlin:20250914T140000
DTSTAMP:20250815T220326Z
URL:https://rauszeit-termine.org/events/stadtteilspaziergang-nordstadt-tec
 h-factory/
SUMMARY:Stadtteilspaziergang Nordstadt &amp\; Tech-Factory
DESCRIPTION:Mit einem Rundgang wollen wir auf den Ausverkauf der Nordstadt 
 hinweisen und Abriss\, Entmietung\, Verdrängung und Profitmaximierung auc
 h ganz praktisch "ankreiden". Der Spaziergang startet vor der Nordstadtbra
 ut am E-Damm und dauert ca. 60 Minuten. Da die geplante „Tech-Factory“
  auf dem Nordstadtkrankenhaus die Gentrifizierung zusätzlich befeuern kö
 nnte\, wollen wir dazu im Anschluss zukünftige Aktionen planen. Mit diese
 n wollen wir vermitteln\, dass sich unser Stadtteil NICHT zur stillschweig
 enden Kulisse irgendwelcher „Über-unsere-Köpfe-hinweg“-Planungen deg
 radieren läßt.\n\nStart: vor der Nordstadtbraut\, E-Damm 87\nVon: Bumke 
 selber machen\n\nDer Spaziergang ist ein Programmpunkt in den "Ausverkauf-
 Schluss-Wochen". \n\nDen Aufruf und mehr dazu findet ihr hier:\nhttps://ra
 uszeit-termine.org/events/ausverkauf-schluss-wochen-einfuehrung-basiswisse
 n-wohnungspolitik/
CATEGORIES:Aktion,Austausch,Spaziergang
LOCATION:Nordstadtbraut\, Engelbosteler Damm 87\, 30167 Hannover\, Deutschl
 and
X-APPLE-STRUCTURED-LOCATION;VALUE=URI;X-ADDRESS=Engelbosteler Damm 87\, 301
 67 Hannover\, Deutschland;X-APPLE-RADIUS=100;X-TITLE=Nordstadtbraut:geo:0,
 0
END:VEVENT
BEGIN:VTIMEZONE
TZID:Europe/Berlin
X-LIC-LOCATION:Europe/Berlin
BEGIN:DAYLIGHT
DTSTART:20250330T030000
TZOFFSETFROM:+0100
TZOFFSETTO:+0200
TZNAME:CEST
END:DAYLIGHT
END:VTIMEZONE
END:VCALENDAR