BEGIN:VCALENDAR
VERSION:2.0
PRODID:-//wp-events-plugin.com//7.2.3.1//EN
TZID:Europe/Berlin
X-WR-TIMEZONE:Europe/Berlin
BEGIN:VEVENT
UID:147728@rauszeit-termine.org
DTSTART;TZID=Europe/Berlin:20270118T190000
DTEND;TZID=Europe/Berlin:20270118T200000
DTSTAMP:20250526T202118Z
URL:https://rauszeit-termine.org/events/sprechstunde-rote-hilfe-e-v-hannov
 er-und-ea-hannover-2027-01-18/
SUMMARY:Sprechstunde Rote Hilfe e.V. Hannover und EA Hannover
DESCRIPTION:Dies ist eine Anlaufstelle für alle\, die – aufgrund ihrer l
 inken politischen Betätigung –  Probleme mit den staatlichen Behörden 
 wie Polizei\, Staatsanwaltschaft und Gerichten haben (oder dies befürchte
 n) oder von diesen Post bekommen haben. Gemeinsam klären wir offene Frage
 n\, stellen bei Bedarf Kontakt zu Anwältinnen & Anwälten her und finden 
 Lösungen für finanzielle Belastungen durch Strafbefehle & Prozesskosten.
 \n\nDie Rote Hilfe e.V. ist eine parteiunabhängige\, strömungsübergreif
 ende linke Schutz- und Solidaritätsorganisation. Wir unterstützen nach u
 nseren Möglichkeiten die Solidarität für alle\, die in der BRD auf Grun
 d ihrer politischen Betätigung verfolgt werden. Politische Betätigung in
  diesem Sinne ist z. B. das Eintreten für die Ziele der Arbeiter_innenb
 ewegung\, der antifaschistische\, antisexistische\, antirassistische\, ant
 imilitaristische\, demokratische oder gewerkschaftliche Kampf. Wichtigste 
 Aufgabe ist dabei die finanzielle Unterstützung bei Anklagen und Prozesse
 n\, das Schaffen von Öffentlichkeit und die Unterstützung von Gefangenen
 .
ATTACH;FMTTYPE=image/jpeg:https://rauszeit-termine.org/wp-content/uploads/
 2024/03/rote-hilfe.jpeg
CATEGORIES:Austausch
LOCATION:UJZ Korn\, Kornstraße 28-30\, Hannover\, Niedersachsen\, 30167\, 
 Hannover\, Deutschland
X-APPLE-STRUCTURED-LOCATION;VALUE=URI;X-ADDRESS=Kornstraße 28-30\, Hannove
 r\, Niedersachsen\, 30167\, Hannover\, Deutschland;X-APPLE-RADIUS=100;X-TI
 TLE=UJZ Korn:geo:0,0
END:VEVENT
BEGIN:VTIMEZONE
TZID:Europe/Berlin
X-LIC-LOCATION:Europe/Berlin
BEGIN:STANDARD
DTSTART:20261025T020000
TZOFFSETFROM:+0200
TZOFFSETTO:+0100
TZNAME:CET
END:STANDARD
END:VTIMEZONE
END:VCALENDAR