BEGIN:VCALENDAR
VERSION:2.0
PRODID:-//wp-events-plugin.com//7.2.3.1//EN
TZID:Europe/Berlin
X-WR-TIMEZONE:Europe/Berlin
BEGIN:VEVENT
UID:12181@rauszeit-termine.org
DTSTART;TZID=Europe/Berlin:20241021T190000
DTEND;TZID=Europe/Berlin:20241021T200000
DTSTAMP:20250225T235713Z
URL:https://rauszeit-termine.org/events/sprechstunde-rote-hilfe-e-v-gemein
 sam-mit-ea-hannover-2024-10-21/
SUMMARY:Sprechstunde Rote Hilfe e.V. gemeinsam mit EA Hannover
DESCRIPTION:Sprechstunde des EA Hannover gemeinsam mit der Roten Hilfe e.V.
  Hannover\n\nBekommt ihr „böse Post“\, habt ihr Sorgen nach einer „
 Begegnung“ mit der Staatsgewalt\, braucht ihr Unterstützung….\n\nWenn
 s gebrannt hat: kommt vorbei! Rund um Verhalten auf Demos\, Polizeigewalt\
 , Repressionen\, böse Briefe etc.\n\n&nbsp\;\n\nRote Hilfe Hannover\n\nc/
 o UJZ Kornstraße\n\nKornstr. 28/32 | 30167 Hannover\n\nhttps://hannover.r
 ote-hilfe.de/
ATTACH;FMTTYPE=image/jpeg:https://rauszeit-termine.org/wp-content/uploads/
 2024/03/rote-hilfe.jpeg
CATEGORIES:Sonstiges
LOCATION:UJZ Korn\, Kornstraße 28-30\, Hannover\, Niedersachsen\, 30167\, 
 Hannover\, Deutschland
X-APPLE-STRUCTURED-LOCATION;VALUE=URI;X-ADDRESS=Kornstraße 28-30\, Hannove
 r\, Niedersachsen\, 30167\, Hannover\, Deutschland;X-APPLE-RADIUS=100;X-TI
 TLE=UJZ Korn:geo:0,0
END:VEVENT
BEGIN:VTIMEZONE
TZID:Europe/Berlin
X-LIC-LOCATION:Europe/Berlin
BEGIN:DAYLIGHT
DTSTART:20240331T030000
TZOFFSETFROM:+0100
TZOFFSETTO:+0200
TZNAME:CEST
END:DAYLIGHT
END:VTIMEZONE
END:VCALENDAR