BEGIN:VCALENDAR
VERSION:2.0
PRODID:-//wp-events-plugin.com//7.2.3.1//EN
TZID:Europe/Berlin
X-WR-TIMEZONE:Europe/Berlin
BEGIN:VEVENT
UID:147547@rauszeit-termine.org
DTSTART;TZID=Europe/Berlin:20250524T120000
DTEND;TZID=Europe/Berlin:20250524T140000
DTSTAMP:20250513T184253Z
URL:https://rauszeit-termine.org/events/sozialer-brennpunkt-zooviertel-ein
 greifen-umverteilen-vergesellschaften/
SUMMARY:Sozialer Brennpunkt Zooviertel - Eingreifen! Umverteilen! Vergesell
 schaften!
DESCRIPTION:Der Aufruf zur Parade von widersetzen Hannover\, IL Hannover un
 d weiteren:\nWir besuchen DAS Problemviertel Hannovers!\n\nGeprägt von ex
 zessivem Konsum und sozialer Kälte wohlstandsverwahrlost das Zooviertel v
 or sich hin. Die Bewohner*innen verweigern oft die Integration in den Arbe
 itsmarkt und lassen lieber andere für sich arbeiten. Milieuspezifische St
 raftaten wie Steuerhinterziehung und Finanzbetrug sind gang und gäbe.\n\n
 Dabei können wir nicht länger zuschauen!\nWir fordern eine radikale Umve
 rteilung von Wohlstand und solidarische Modelle des Wirtschaftens.\nUmvert
 eilung findet in unserem Wirtschafssystem täglich statt - von unten nach 
 oben.\nMieten steigen ins untragbare\, Lebensmittel werden immer teurer\, 
 Löhne? Bleiben gleich. Aber nur wir Arbeitnehmer*innen sind in der Krise.
  Aktienunternehmen fahren Rekordgewinne ein\, zahlen Millionen-Boni an ihr
 e Vorstände. Wir wollen eine faire Beteiligung an dem was wir erwirtschaf
 ten. Schluss mit dem Horten von Reichtum und Ressourcen! Für eine gerecht
 e Umverteilung - Reichensteuer JETZT!\n\nWir wollen weg von reichen Parall
 elgesellschaften\, neoliberalem Mindset und rechter Politik.\nNeoliberale 
 Wirtschaftspolitik schafft einen Nährboden für menschenverachtende Polit
 ik. Wo Arbeiter*innenrechte mit Füßen getreten werden\, sind Menschenrec
 hte in Gefahr. Durch bewusste Verbreitung von rassistischen Menschenbilder
 n lenken rechte Parteien von den wahren Verursachern sozialer Krisen ab. D
 er Staat hat immer Geld für Bankenrettung\, Aufrüstung und Kohlesubventi
 onen. Wann können wir uns auch einen Sozialstaat leisten der genug für j
 ede*n hat?\nSolidarität statt Abgrenzung\, wir wollen ein gutes Leben fü
 r ALLE!\n\nWir kommen vorbei! Werdet Teil der Lösung! Öffnet eure Villen
  und Gärten für soziale Wohnprojekte und Begegnungsräume\, öffnet eure
  Herzen für die unteren 99% der Bevölkerung.\nWir setzen auf Austausch u
 nd laden Angereiste und Zugezogene\, Integrationswillige und Beratungsresi
 stente zu unserer bunten und prächtigen Parade durch das Zooviertel ein.\
 n\nUmverteilung oder Barbarei? Sozial ist muss!\nAuftakt: Theodor-Heuss-Pl
 atz (vor dem HCC)
ATTACH;FMTTYPE=image/jpeg:https://rauszeit-termine.org/wp-content/uploads/
 2025/05/zooviertel.webp
CATEGORIES:Demo,Performance
LOCATION:Theodor-Heuss-Platz\, Theodor-Heuss-Platz\, Hannover\, Deutschland
X-APPLE-STRUCTURED-LOCATION;VALUE=URI;X-ADDRESS=Theodor-Heuss-Platz\, Hanno
 ver\, Deutschland;X-APPLE-RADIUS=100;X-TITLE=Theodor-Heuss-Platz:geo:0,0
END:VEVENT
BEGIN:VTIMEZONE
TZID:Europe/Berlin
X-LIC-LOCATION:Europe/Berlin
BEGIN:DAYLIGHT
DTSTART:20250330T030000
TZOFFSETFROM:+0100
TZOFFSETTO:+0200
TZNAME:CEST
END:DAYLIGHT
END:VTIMEZONE
END:VCALENDAR