BEGIN:VCALENDAR
VERSION:2.0
PRODID:-//wp-events-plugin.com//7.2.3.1//EN
TZID:Europe/Berlin
X-WR-TIMEZONE:Europe/Berlin
BEGIN:VEVENT
UID:6883@rauszeit-termine.org
DTSTART;TZID=Europe/Paris:20201028T180000
DTEND;TZID=Europe/Paris:20201028T200000
DTSTAMP:20201027T212548Z
URL:https://rauszeit-termine.org/events/sommerschlussverkauf-an-der-lidl-u
 ni/
SUMMARY:Sommerschlussverkauf an der Lidl-Uni
DESCRIPTION:***Online Veranstaltung im Rahmen der Welcome to the Jungle Ver
 anstaltungsreihe***\n\nLink: https://zoom.us/j/98990753169\n\nDie Universi
 tät wird in liberalen Demokratien mit zwangloser Wahrheitssuche verbunden
 . Entsprechend gelten ihre Forschung und Bildung als frei\, wenn sie keine
 n anderen Zwecken als der Erkenntnis dienen. Im Sinne des Humanismus und d
 er Aufklärung müsste hinzugefügt werden\, dass die freie Wissenschaft a
 uf die Verwirklichung menschlicher Potenziale hinwirke: Freiheit\, Gleichh
 eit\, Glück\, Solidarität. Doch wird die Uni diesen Idealen gerecht? Die
 nt das bürgerliche Wissenschaftsverständnis nicht eher einer unterdrück
 enden Naturbeherrschung als der Emanzipation? Wieso reden Politiker*innen 
 eigentlich immer vom Innovationsstandort Deutschland? Und wie passt es ins
  Bild\, dass der Zugang zur Uni sozial ungerecht ist?\nIm Rahmen dieser Ve
 ranstaltung werden wir uns mit der Funktion der heutigen Universität befa
 ssen und ihre Finanzierung\, Entscheidungsstrukturen sowie die kürzlichen
  Studienreformen untersuchen. Im Vordergrund steht dabei die Frage\, ob un
 d inwiefern die Universität im Zeitalter des Neoliberalismus ökonomisier
 t wird und welche Folgen dies für die Studierenden hat.\n\nEin Vortrag mi
 t Sandro Philippi\, Aktivist im Bündnis Lernfabriken Meutern (LFM) und eh
 emaliges Vorstandsmitglied des freien Zusammenschluss von Student*innensch
 aften (fzs)
CATEGORIES:Vortrag
END:VEVENT
BEGIN:VTIMEZONE
TZID:Europe/Paris
X-LIC-LOCATION:Europe/Paris
BEGIN:STANDARD
DTSTART:20201025T020000
TZOFFSETFROM:+0200
TZOFFSETTO:+0100
TZNAME:CET
END:STANDARD
END:VTIMEZONE
END:VCALENDAR