BEGIN:VCALENDAR
VERSION:2.0
PRODID:-//wp-events-plugin.com//7.2.3.1//EN
TZID:Europe/Berlin
X-WR-TIMEZONE:Europe/Berlin
BEGIN:VEVENT
UID:14232@rauszeit-termine.org
DTSTART;TZID=Europe/Berlin:20250130T200000
DTEND;TZID=Europe/Berlin:20250130T200000
DTSTAMP:20250124T134518Z
URL:https://rauszeit-termine.org/events/solipoker-fuer-einen-op-saal-im-za
 patistischen-urwald/
SUMMARY:Solipoker für einen OP-Saal im zapatistischen Urwald
DESCRIPTION:Hey!\nwir wollen zusammen mit euch bei einer gemütlichen Sturm
 glocken Kneipenabend bei Kuchen und Kakao auf Spende zusammen Pokern\, um 
 Gelder für einen autonomen OP-Saal im Urwald 'Selva Lacandona' zu sammeln
 . Es gibt einen Beitrittspreis zum Pokern\, der direkt an die Spendenaktio
 n geht\, genau so wie der Erlös des Kuchens. Keine Bange\, wenn Leute mit
  Geld gerade schwierigkeiten haben\, wird sich trotzdem ein Platz am Tisch
  finden!\nHier mehr zu der Spendenaktion und den Aufbau eines OP-Saals in 
 Chiapas\, Südmexiko\nKampagne für einen OP Saal in der Selva Lacandona\n
 17.11.2024\n \nHeute vor 41 Jahren\, am 17.11.83\, wurde im mexikanischen
  Regenwald - der "Selva Lacandona" - die EZLN gegründet\, die Befreiungsa
 rmee der Zapatistas. Seit Jahrzehnten bauen sie in Chiapas\, Südmexiko ei
 ne basisdemokratische\, auf Solidarität und Selbstverwaltung fußende Ges
 ellschaft auf.\nImmer wieder sind sie dabei Angriffen durch Staat\, Konzer
 ne und Paramilitärs ausgesetzt. Zurzeit erreicht die Gewalt gegen indigen
 e Gemeinden in Chiapas ein neues Niveau\, besonders gefährlich ist dabei 
 die Ausbreitung der Drogenkartelle. Darum startet heute\, zum 41. Geburtst
 ag der #EZLN\, die Kampagne "Ein OP-Saal im lakandonischen Regenwald"\, um
  die Zapatistas finanziell bei dem Bau eines autonomen OP-Gebäudes zu unt
 erstützen.\nMit der Kampagne verfolgen wir drei Ziele:\n\ndie notwendige 
 Ausstattung für Operationssäle in den zapatistischen Kliniken und Kranke
 nhäusern zu beschaffen\nden zapatistischen Kampf für die ganzheitliche G
 esundheit der Indigenen Bevölkerung von Chiapas bekannter zu machen\ndie 
 Realitäten\, Schwierigkeiten und Erfolge der zapatistischen Gemeinden bei
 m Aufbau eines autonomen Gesundheitssystems\, das von den Regierungen\, ih
 rem Geld und ihrer Politik unabhängig ist\, in unseren jeweiligen Kontext
 en bekannt zu machen.\n\nhttps://gofund.me/d1f6fcee\nLINK: https://aroma-z
 apatista.de/blog/kampagne-fur-einen-op-saal-in-der-selva-lacandona\n
ATTACH;FMTTYPE=image/jpeg:https://rauszeit-termine.org/wp-content/uploads/
 2025/01/kampagne-op-saal-800x425-1.jpg
CATEGORIES:Sonstiges
LOCATION:Sturmglocke\, Klaus-Müller-Kilian-Weg 1\, Hannover\, 30167\, Deut
 schland
X-APPLE-STRUCTURED-LOCATION;VALUE=URI;X-ADDRESS=Klaus-Müller-Kilian-Weg 1\
 , Hannover\, 30167\, Deutschland;X-APPLE-RADIUS=100;X-TITLE=Sturmglocke:ge
 o:0,0
END:VEVENT
BEGIN:VTIMEZONE
TZID:Europe/Berlin
X-LIC-LOCATION:Europe/Berlin
BEGIN:STANDARD
DTSTART:20241027T020000
TZOFFSETFROM:+0200
TZOFFSETTO:+0100
TZNAME:CET
END:STANDARD
END:VTIMEZONE
END:VCALENDAR