BEGIN:VCALENDAR
VERSION:2.0
PRODID:-//wp-events-plugin.com//7.2.3.1//EN
TZID:Europe/Berlin
X-WR-TIMEZONE:Europe/Berlin
BEGIN:VEVENT
UID:14684@rauszeit-termine.org
DTSTART;TZID=Europe/Berlin:20250307T160000
DTEND;TZID=Europe/Berlin:20250307T160000
DTSTAMP:20250305T123539Z
URL:https://rauszeit-termine.org/events/solidaritaet-mit-der-ukraine/
SUMMARY:Solidarität mit der Ukraine
DESCRIPTION:Wir sind erschüttert: die Demütigung des ukrainischen Präsid
 enten Selensky durch den amerikanischen Präsidenten\, der Eklat im Weiße
 n Haus am 28. Februar 2025\, stellt eine einschneidende\, beispiellose Zä
 sur dar.\n\nDrei Jahre nach dem Beginn des russischen Angriffkrieges hat D
 onald Trump Täter-Opfer-Umkehr betrieben und deutlich gemacht\, auf Ameri
 ka unter seiner Führung ist kein Verlass. Nicht nur die Ukraine\, auch un
 sere grundlegenden Werte in ganz Europa – Demokratie und Freiheit in Fri
 eden - stehen auf dem Spiel. Jetzt gilt es noch viel mehr\, den Menschen i
 n der Ukraine unsere Solidarität und unser Mitgefühl zu zeigen.\n\nAm Fr
 eitag\, dem 07. März 2025 um 16.00 Uhr rufen wir auf\, auf dem Opernplatz
  zusammen zu kommen und deutlich zu machen:\n\nHannover steht an der Seite
  der Ukraine!\n\nWir lassen die Ukraine nicht im Stich!
ATTACH;FMTTYPE=image/jpeg:https://rauszeit-termine.org/wp-content/uploads/
 2025/03/Solidaritaet-mit-der-Ukraine.jpg
CATEGORIES:Kundgebung
LOCATION:Opernplatz Hannover\, Opernplatz\, Hannover\, Deutschland
X-APPLE-STRUCTURED-LOCATION;VALUE=URI;X-ADDRESS=Opernplatz\, Hannover\, Deu
 tschland;X-APPLE-RADIUS=100;X-TITLE=Opernplatz Hannover:geo:0,0
END:VEVENT
BEGIN:VTIMEZONE
TZID:Europe/Berlin
X-LIC-LOCATION:Europe/Berlin
BEGIN:STANDARD
DTSTART:20241027T020000
TZOFFSETFROM:+0200
TZOFFSETTO:+0100
TZNAME:CET
END:STANDARD
END:VTIMEZONE
END:VCALENDAR