BEGIN:VCALENDAR
VERSION:2.0
PRODID:-//wp-events-plugin.com//7.2.3.1//EN
TZID:Europe/Berlin
X-WR-TIMEZONE:Europe/Berlin
BEGIN:VEVENT
UID:7183@rauszeit-termine.org
DTSTART;TZID=Europe/Berlin:20210327T120000
DTEND;TZID=Europe/Berlin:20210327T140000
DTSTAMP:20210325T213906Z
URL:https://rauszeit-termine.org/events/solidaritaet-grenzenlos-gemeinsam-
 gegen-abschottungspolitik-und-rassismus/
SUMMARY:SOLIDARITÄT GRENZENLOS – gemeinsam gegen Abschottungspolitik und
  Rassismus
DESCRIPTION:\n++ Aufgrund des erhöhten Infektionsgeschehen haben wir uns d
 azu entschieden\, statt der Demonstration ab dem Bahnhofsvorplatz eine Kun
 dgebung auf dem Opernplatz zu machen ++\n\n\n\n\n\nWir laden Euch ein\, am
  Samstag den 27.03. im Rahmen der Internationalen Wochen gegen Rassismus m
 it uns auf die Straße zu gehen. Wir wollen gemeinsam laut sein für eine 
 solidarische Welt\, in der Rassismus keinen Platz hat.\n\n\nDie europäisc
 he Abschottungspolitik steht exemplarisch für das rassistische System\, i
 n dem wir leben. Aktuell befinden sich weltweit mehr als 80 Millionen Mens
 chen auf der Flucht. Allein letztes Jahr sind über 3174 Schutzsuchende we
 ltweit auf den lebensgefährlichen Fluchtrouten gestorben.\n\nEuropas rass
 istische Antwort auf diese Menschen sind Lager an den EU Außengrenzen\, i
 n denen die Menschen unter elenden unmenschlichen Bedingungen festgehalten
  werden. Deutschlands rassistische Antwort ist die Förderung der EU-Grenz
 schutzagentur Frontex und damit illegale Pushbacks. Deutschlands rassistis
 che Antwort ist auch die Kriminalisierung von Seenotrettung und die Abschi
 ebung von hier lebenden Menschen\, etwa in das Bürgerkriegsland Afghanist
 an. Und Niedersachsens rassistische Antwort ist die Unterstützung durch B
 ereitstellung des Flughafens Hannover – Langenhagen\, wie jüngst für d
 ie Sammelabschiebung am 10.03. Gleichzeitig wird in Deutschland mit Denkm
 älern immer noch der eigenen Kolonialverbrechen gehuldigt.\n\n\n\nWir kri
 tisieren dieses rassistische Handeln\, das uns weismachen will\, dass dies
 e Zustände normal sind\, zutiefst. Lasst uns diesen Zuständen am Samstag
  auf der Straße etwas entgegenstellen - für sichere Fluchtwege nach Euro
 pa\, für die sofortige Evakuierung der Lager an den Außengrenzen und in 
 Deutschland\, für Bewegungsfreiheit für alle Menschen!\n\n\nDenkt bitte 
 an FFP2 Masken. Solltet ihr keine haben\, könnt ihr euch gerne und natür
 lich kostenlos eine am Lauti abholen. Seid solidarisch und haltet bitte au
 sreichend Abstand zu den Menschen um euch.\n\n#LeaveNoOneBehind #WirHabenP
 latz #NoMoreMorias #EvacuateNow\n\n\n\n\n\n\n
CATEGORIES:Demo
END:VEVENT
BEGIN:VTIMEZONE
TZID:Europe/Berlin
X-LIC-LOCATION:Europe/Berlin
BEGIN:STANDARD
DTSTART:20201025T020000
TZOFFSETFROM:+0200
TZOFFSETTO:+0100
TZNAME:CET
END:STANDARD
END:VTIMEZONE
END:VCALENDAR