BEGIN:VCALENDAR
VERSION:2.0
PRODID:-//wp-events-plugin.com//7.2.3.1//EN
TZID:Europe/Berlin
X-WR-TIMEZONE:Europe/Berlin
BEGIN:VEVENT
UID:156515@rauszeit-termine.org
DTSTART;TZID=Europe/Berlin:20260503T160000
DTEND;TZID=Europe/Berlin:20260503T160000
DTSTAMP:20260424T165706Z
URL:https://rauszeit-termine.org/events/soli-prepping-was-ist-das-wie-geht
 -das-und-wie-fangen-wir-an/
SUMMARY:Soli-Prepping: was ist das\, wie geht das\, und wie fangen wir an?
DESCRIPTION:Darum geht's:\nWas passiert\, wenn der Strom weg ist? Oder die 
 Temperaturen tagelang weit über 30 Grad steigen\, oder wenn lebenswichtig
 e Medikamente nicht zu kriegen sind? Wer in der Nachbarschaft braucht dann
  Hilfe\, und wer hilft (oder nicht)? Lassen sich jetzt (schon/noch) solida
 rische Strukturen schaffen oder ausbauen?\n\nWas erwartet euch?\nWir wolle
 n den Nachmittag mit einem "Hallo Kollaps" starten\, einem Update zur glob
 alen Lage. Dann teilen wir ein paar kurze Infos\, Erfahrungen und Ideen f
 ürs "Soli-Preppen" in Hannover\, unseren Stadtteilen\, Nachbarschaften\, 
 im Café Allerlei selbst.\n\nBei Kaffee und Kuchen...\n... ist Zeit für A
 ustausch auch in kleiner Runde: welche Erfahrungen gibt es\, suchen Mensch
 en Ideen oder Mitmacher*innen oder einen Rat? Wenn ihr mit einem konkreten
  Anliegen kommt\, meldet euch gern schon vorher per Mail\, kollapsvernetzu
 nghannover@systemli.org\n\nForum der Kollapsvernetzung Hannover\nImmer am 
 zweiten Dritten - dem 3. jedes ungeraden Monats - skizzieren Beteiligte de
 r Kollapsvernetzung Hannover und/oder Gäste einen Aspekt wahrscheinlicher
  künftiger Zusammenbrüche. Mit diesem Aspekt beschäftigen wir uns im An
 schluss: in kleinen Runden\, im gemeinsamen Gespräch\, praktisch\, strate
 gisch oder emotional - wie es jeweils passt.\nDas Ziel ist\, Zukunftsaussi
 chten gemeinsam besser standhalten zu können\, ein besseres Verständnis 
 möglicher Kollapsszenarien und solidarischer Handlungsoptionen für Hanno
 ver zu entwickeln und bestehende Initiativen und Ansätze zu vernetzen.\n\
 nAlle sind herzlich willkommen! Eine solidarische Haltung und einen respek
 tvollen Umgang miteinander setzen wir voraus. &#x1f33a\;\n\n&#x231b\;Sonnt
 ag\, 3. Mai 2026\, 16 Uhr\n&#x1f4cc\; Café Allerlei\, Allerweg 7\, Linden
  Süd\n&#x1f96e\; Wer mag\, bringt Kuchen mit :)\n&#x1f5e3\;&#xfe0f\; Term
 in darf gern geteilt werden
ATTACH;FMTTYPE=image/jpeg:https://rauszeit-termine.org/wp-content/uploads/
 2026/04/signal-2026-04-07-160832.png
CATEGORIES:Vernetzung,Vortrag
LOCATION:Café Allerlei\, Allerweg 7\, Hannover\, 30449\, Deutschland
X-APPLE-STRUCTURED-LOCATION;VALUE=URI;X-ADDRESS=Allerweg 7\, Hannover\, 304
 49\, Deutschland;X-APPLE-RADIUS=100;X-TITLE=Café Allerlei:geo:0,0
END:VEVENT
BEGIN:VTIMEZONE
TZID:Europe/Berlin
X-LIC-LOCATION:Europe/Berlin
BEGIN:DAYLIGHT
DTSTART:20260329T030000
TZOFFSETFROM:+0100
TZOFFSETTO:+0200
TZNAME:CEST
END:DAYLIGHT
END:VTIMEZONE
END:VCALENDAR