BEGIN:VCALENDAR
VERSION:2.0
PRODID:-//wp-events-plugin.com//7.2.3.1//EN
TZID:Europe/Berlin
X-WR-TIMEZONE:Europe/Berlin
BEGIN:VEVENT
UID:150419@rauszeit-termine.org
DTSTART;TZID=Europe/Berlin:20250921T140000
DTEND;TZID=Europe/Berlin:20250921T160000
DTSTAMP:20250920T192016Z
URL:https://rauszeit-termine.org/events/soli-cafe-3/
SUMMARY:Soli-Cafe
DESCRIPTION:Wir laden euch herzlich zu unserem Soli-Café ein!\nGemeinsam w
 ollen wir einen Raum schaffen\, in dem wir Menschen Unterstützung anbiete
 n\, die von (baldiger) Abschiebung bedroht und/oder von Rassismus betroffe
 n sind. Im Soli-Café könnt ihr euch mit anderen Menschen austauschen und
  hilfreiche Infos bekommen. So können wir uns gegenseitig stärken\, Soli
 darität zeigen und ein Zeichen gegen Abschiebung und Rassismus setzen ✊
 \nDu bist von Abschiebung und/oder Rassismus betroffen und suchst Unterst
 ützung\, möchtest andere unterstützen oder brauchst einfach einen Ort\,
  um dich mit anderen auszutauschen?\nAm 21.9.2025 wird sich im Rahmen des 
 Soli-Café die Initiative Hannover Solidarisch vorstellen. Es ist eine Gru
 ppe von Leuten\, die Menschen mit Fluchterfahrungen zur Ausländerbehörde
  begleiten\, um ihnen dort zu ihren Rechten zu verhelfen.\nDas Café ist a
 lle zwei Wochen geöffnet. Ihr findet uns in der Hüttenstraße 22B.\nWir 
 freuen uns auf euch!
ATTACH;FMTTYPE=image/jpeg:https://rauszeit-termine.org/wp-content/uploads/
 2025/09/soli-cafe.jpg
CATEGORIES:Austausch,Beratung,Café,Sonstiges,Vernetzung
LOCATION:Initiative Hüttenstraße\, Hüttenstraße 22b\, Hannover\, Deutsc
 hland
X-APPLE-STRUCTURED-LOCATION;VALUE=URI;X-ADDRESS=Hüttenstraße 22b\, Hannov
 er\, Deutschland;X-APPLE-RADIUS=100;X-TITLE=Initiative Hüttenstraße:geo:
 0,0
END:VEVENT
BEGIN:VTIMEZONE
TZID:Europe/Berlin
X-LIC-LOCATION:Europe/Berlin
BEGIN:DAYLIGHT
DTSTART:20250330T030000
TZOFFSETFROM:+0100
TZOFFSETTO:+0200
TZNAME:CEST
END:DAYLIGHT
END:VTIMEZONE
END:VCALENDAR